BEGIN:VCALENDAR
VERSION:2.0
PRODID:-//Keller Williams Realty Signature - ECPv6.15.20//NONSGML v1.0//EN
CALSCALE:GREGORIAN
METHOD:PUBLISH
X-WR-CALNAME:Keller Williams Realty Signature
X-ORIGINAL-URL:https://kwrealtysignature.com
X-WR-CALDESC:Events for Keller Williams Realty Signature
REFRESH-INTERVAL;VALUE=DURATION:PT1H
X-Robots-Tag:noindex
X-PUBLISHED-TTL:PT1H
BEGIN:VTIMEZONE
TZID:America/Chicago
BEGIN:DAYLIGHT
TZOFFSETFROM:-0600
TZOFFSETTO:-0500
TZNAME:CDT
DTSTART:20240310T080000
END:DAYLIGHT
BEGIN:STANDARD
TZOFFSETFROM:-0500
TZOFFSETTO:-0600
TZNAME:CST
DTSTART:20241103T070000
END:STANDARD
BEGIN:DAYLIGHT
TZOFFSETFROM:-0600
TZOFFSETTO:-0500
TZNAME:CDT
DTSTART:20250309T080000
END:DAYLIGHT
BEGIN:STANDARD
TZOFFSETFROM:-0500
TZOFFSETTO:-0600
TZNAME:CST
DTSTART:20251102T070000
END:STANDARD
BEGIN:DAYLIGHT
TZOFFSETFROM:-0600
TZOFFSETTO:-0500
TZNAME:CDT
DTSTART:20260308T080000
END:DAYLIGHT
BEGIN:STANDARD
TZOFFSETFROM:-0500
TZOFFSETTO:-0600
TZNAME:CST
DTSTART:20261101T070000
END:STANDARD
END:VTIMEZONE
BEGIN:VEVENT
DTSTART;TZID=America/Chicago:20251001T110000
DTEND;TZID=America/Chicago:20251001T120000
DTSTAMP:20260421T181550
CREATED:20250905T202533Z
LAST-MODIFIED:20250929T180206Z
UID:10005017-1759316400-1759320000@kwrealtysignature.com
SUMMARY:KW Tech Essentials:  How to use KW Reports & Set Goals in Your Business
DESCRIPTION:KW Reports have moved to Command.   \nYou sat through Business Planning clinic and should have your goals ready for 2026.  Spencer will walk you through how to find the new reports\, how to set your goals and how to use them in your business!
URL:https://kwrealtysignature.com/event/kw-tech-essentials-the-new-kw-canva-partnership-3/
LOCATION:Rockford / Zoom
END:VEVENT
BEGIN:VEVENT
DTSTART;TZID=America/Chicago:20251001T120000
DTEND;TZID=America/Chicago:20251001T130000
DTSTAMP:20260421T181550
CREATED:20250926T162532Z
LAST-MODIFIED:20250926T162532Z
UID:10005048-1759320000-1759323600@kwrealtysignature.com
SUMMARY:Tech Extra:  Social Media Planning Workshop
DESCRIPTION:We have Canva.\nWe have AI.\nWe have a platform.\nNow let’s put that all together and create some magic!\nBrenda will work with you to put together your social media marketing\, schedule posts\, find ideas\, learn how to use your website and more! \nBring your computers!
URL:https://kwrealtysignature.com/event/tech-extra-social-media-planning-workshop/
LOCATION:Rockford – Zoom\, 4201 Galleria Dr\, Loves Park\, IL
CATEGORIES:Tech Essentials
ORGANIZER;CN="Brenda Kaare":MAILTO:bkaare@kw.com
END:VEVENT
BEGIN:VEVENT
DTSTART;TZID=America/Chicago:20251001T170000
DTEND;TZID=America/Chicago:20251001T180000
DTSTAMP:20260421T181550
CREATED:20250923T181059Z
LAST-MODIFIED:20250923T181059Z
UID:10005032-1759338000-1759341600@kwrealtysignature.com
SUMMARY:PC National Zoom:  Rookie Real Estate Agent Book Club
DESCRIPTION:Please join us over the next 7 weeks as we go through the brand new KW Book:  Rookie Real Estate Agent written specifically for the new agent launching their career!\nKW interviewed hundreds of agents who have made a successful career in real estate. We asked them what they did differently that made them so successful. What they said was that they built a business from the jump. They treated their “jobs” as agents like the careers\nand businesses they were from Day 1. They took stock in what they wanted out of their lives and work and established a solid mindset so that nothing could stop them from achieving their dreams. And now you can\, too! The goal for this session is for you to uncover your ambitions and build a solid mindset upon which your career can truly blossom\, no matter what is thrown your way. \nWeek 1:  Chapters 1 & 2 pages 1-18 \n\n\n\nhttps://us02web.zoom.us/meeting/register/cWDemN2FRuWig52TGGQOqA
URL:https://kwrealtysignature.com/event/pc-national-zoom-rookie-real-estate-agent-book-club/
LOCATION:Zoom Only
CATEGORIES:Productivity Coaching
ORGANIZER;CN="Brenda Kaare":MAILTO:bkaare@kw.com
END:VEVENT
END:VCALENDAR