BEGIN:VCALENDAR
VERSION:2.0
PRODID:-//Keller Williams Realty Signature - ECPv6.15.20//NONSGML v1.0//EN
CALSCALE:GREGORIAN
METHOD:PUBLISH
X-WR-CALNAME:Keller Williams Realty Signature
X-ORIGINAL-URL:https://kwrealtysignature.com
X-WR-CALDESC:Events for Keller Williams Realty Signature
REFRESH-INTERVAL;VALUE=DURATION:PT1H
X-Robots-Tag:noindex
X-PUBLISHED-TTL:PT1H
BEGIN:VTIMEZONE
TZID:America/Chicago
BEGIN:DAYLIGHT
TZOFFSETFROM:-0600
TZOFFSETTO:-0500
TZNAME:CDT
DTSTART:20240310T080000
END:DAYLIGHT
BEGIN:STANDARD
TZOFFSETFROM:-0500
TZOFFSETTO:-0600
TZNAME:CST
DTSTART:20241103T070000
END:STANDARD
BEGIN:DAYLIGHT
TZOFFSETFROM:-0600
TZOFFSETTO:-0500
TZNAME:CDT
DTSTART:20250309T080000
END:DAYLIGHT
BEGIN:STANDARD
TZOFFSETFROM:-0500
TZOFFSETTO:-0600
TZNAME:CST
DTSTART:20251102T070000
END:STANDARD
BEGIN:DAYLIGHT
TZOFFSETFROM:-0600
TZOFFSETTO:-0500
TZNAME:CDT
DTSTART:20260308T080000
END:DAYLIGHT
BEGIN:STANDARD
TZOFFSETFROM:-0500
TZOFFSETTO:-0600
TZNAME:CST
DTSTART:20261101T070000
END:STANDARD
END:VTIMEZONE
BEGIN:VEVENT
DTSTART;TZID=America/Chicago:20251006T090000
DTEND;TZID=America/Chicago:20251006T123000
DTSTAMP:20260421T082153
CREATED:20250926T003423Z
LAST-MODIFIED:20250926T003423Z
UID:10005045-1759741200-1759753800@kwrealtysignature.com
SUMMARY:KWRS Company Orientation for IL & WI
DESCRIPTION:Welcome to KWRS (Keller Williams Realty Signature) \nThis Orientation is for Agents & Admin New to KWRS. Agents & Admin from all offices will attend in Rockford so you can meet the staff and tour the Corporate office. \n\nKW Models & Systems\nCompany Policies & Procedures\n\nPlease bring your computers\, you will reference the policy manual that can be found in your Google Drive.
URL:https://kwrealtysignature.com/event/kwrs-company-orientation-for-il-wi-3/
LOCATION:Rockford\, 4201 Galleria Dr\, Loves Park\, IL\, 61111
END:VEVENT
BEGIN:VEVENT
DTSTART;TZID=America/Chicago:20251006T090000
DTEND;TZID=America/Chicago:20251010T110000
DTSTAMP:20260421T082153
CREATED:20251002T214622Z
LAST-MODIFIED:20251002T215027Z
UID:10005052-1759741200-1760094000@kwrealtysignature.com
SUMMARY:Daily Group Lead Gen!
DESCRIPTION:Get your DTD2’s together and let’s call some people!  \nWe’ve been having fun\, creating energy\, making contacts and setting appointments while supporting one another and learning from each other.\nOpen to ALL agents!  Daily 9:00 am – 11:00 am Rockford BOLD Room.
URL:https://kwrealtysignature.com/event/daily-group-lead-gen/
LOCATION:Rockford\, 4201 Galleria Dr\, Loves Park\, IL\, 61111
ORGANIZER;CN="Brenda Kaare":MAILTO:bkaare@kw.com
END:VEVENT
BEGIN:VEVENT
DTSTART;TZID=America/Chicago:20251006T093000
DTEND;TZID=America/Chicago:20251006T103000
DTSTAMP:20260421T082153
CREATED:20251002T141030Z
LAST-MODIFIED:20251002T141030Z
UID:10005049-1759743000-1759746600@kwrealtysignature.com
SUMMARY:WI Breakfast Group!
DESCRIPTION:Join us for a breakfast mastermind with your WI fellow agents!\n 
URL:https://kwrealtysignature.com/event/wi-breakfast-group-11/
LOCATION:Bessie’s Diner\, 1716 W. Airport Road\, Janesville\, WI\, 53546
END:VEVENT
END:VCALENDAR