BEGIN:VCALENDAR
VERSION:2.0
PRODID:-//Keller Williams Realty Signature - ECPv6.15.20//NONSGML v1.0//EN
CALSCALE:GREGORIAN
METHOD:PUBLISH
X-ORIGINAL-URL:https://kwrealtysignature.com
X-WR-CALDESC:Events for Keller Williams Realty Signature
REFRESH-INTERVAL;VALUE=DURATION:PT1H
X-Robots-Tag:noindex
X-PUBLISHED-TTL:PT1H
BEGIN:VTIMEZONE
TZID:America/Chicago
BEGIN:DAYLIGHT
TZOFFSETFROM:-0600
TZOFFSETTO:-0500
TZNAME:CDT
DTSTART:20240310T080000
END:DAYLIGHT
BEGIN:STANDARD
TZOFFSETFROM:-0500
TZOFFSETTO:-0600
TZNAME:CST
DTSTART:20241103T070000
END:STANDARD
BEGIN:DAYLIGHT
TZOFFSETFROM:-0600
TZOFFSETTO:-0500
TZNAME:CDT
DTSTART:20250309T080000
END:DAYLIGHT
BEGIN:STANDARD
TZOFFSETFROM:-0500
TZOFFSETTO:-0600
TZNAME:CST
DTSTART:20251102T070000
END:STANDARD
BEGIN:DAYLIGHT
TZOFFSETFROM:-0600
TZOFFSETTO:-0500
TZNAME:CDT
DTSTART:20260308T080000
END:DAYLIGHT
BEGIN:STANDARD
TZOFFSETFROM:-0500
TZOFFSETTO:-0600
TZNAME:CST
DTSTART:20261101T070000
END:STANDARD
END:VTIMEZONE
BEGIN:VEVENT
DTSTART;TZID=America/Chicago:20251020T080000
DTEND;TZID=America/Chicago:20251024T110000
DTSTAMP:20260422T174231
CREATED:20251019T194339Z
LAST-MODIFIED:20251019T194339Z
UID:10005067-1760947200-1761303600@kwrealtysignature.com
SUMMARY:Daily Group Lead Gen!
DESCRIPTION:Get your DTD2’s together and let’s call some people!  \nWe’ve been having fun\, creating energy\, making contacts and setting appointments while supporting one another and learning from each other.\nOpen to ALL agents!  Daily 9:00 am – 11:00 am Rockford BOLD Room.
URL:https://kwrealtysignature.com/event/daily-group-lead-gen-2/
LOCATION:Rockford\, 4201 Galleria Dr\, Loves Park\, IL\, 61111
ORGANIZER;CN="Brenda Kaare":MAILTO:bkaare@kw.com
END:VEVENT
BEGIN:VEVENT
DTSTART;TZID=America/Chicago:20251023T083000
DTEND;TZID=America/Chicago:20251023T093000
DTSTAMP:20260422T174231
CREATED:20251010T150015Z
LAST-MODIFIED:20251021T183905Z
UID:10005058-1761208200-1761211800@kwrealtysignature.com
SUMMARY:KW Wealth-CANCELLED
DESCRIPTION:KW Wealth is in place for you to create wealth\, work toward your Freedom number and protect your legacy. \nIt has been said “you can only develop to the level of who we affiliate with and the ideas we are exposed to”  \nBe part of this group and have the opportunity to learn from several proven and very successful individuals. \nZoom Password: 4201Zoom \nLink: https://us06web.zoom.us/j/86172058323?pwd=oEJZTcin51T4saqm84eey1Cdqo8hDb.1
URL:https://kwrealtysignature.com/event/kw-wealth-7/
LOCATION:Rockford – Zoom\, 4201 Galleria Dr\, Loves Park\, IL
CATEGORIES:Wealth
END:VEVENT
BEGIN:VEVENT
DTSTART;TZID=America/Chicago:20251023T100000
DTEND;TZID=America/Chicago:20251023T110000
DTSTAMP:20260422T174231
CREATED:20251019T191957Z
LAST-MODIFIED:20251019T192054Z
UID:10005065-1761213600-1761217200@kwrealtysignature.com
SUMMARY:IL Core 2:  Offer Writing Part 2 Assignment review
DESCRIPTION:Understand how to complete the Offer to Purchase and associated docs.\nNEW! Part 2 Assignment review \nFor All Agents & TCs New to KWRS or newly licensed in IL.  Requirements for Agents in Mentoring and as directed by their Coach. \nOpen to all agents who want a refresher.
URL:https://kwrealtysignature.com/event/il-core-2-offer-writing-part-2-special-day-due-to-prospecting-bootcamp/
LOCATION:Rockford Office
END:VEVENT
END:VCALENDAR