BEGIN:VCALENDAR
VERSION:2.0
PRODID:-//Keller Williams Realty Signature - ECPv6.15.20//NONSGML v1.0//EN
CALSCALE:GREGORIAN
METHOD:PUBLISH
X-ORIGINAL-URL:https://kwrealtysignature.com
X-WR-CALDESC:Events for Keller Williams Realty Signature
REFRESH-INTERVAL;VALUE=DURATION:PT1H
X-Robots-Tag:noindex
X-PUBLISHED-TTL:PT1H
BEGIN:VTIMEZONE
TZID:America/Chicago
BEGIN:DAYLIGHT
TZOFFSETFROM:-0600
TZOFFSETTO:-0500
TZNAME:CDT
DTSTART:20250309T080000
END:DAYLIGHT
BEGIN:STANDARD
TZOFFSETFROM:-0500
TZOFFSETTO:-0600
TZNAME:CST
DTSTART:20251102T070000
END:STANDARD
BEGIN:DAYLIGHT
TZOFFSETFROM:-0600
TZOFFSETTO:-0500
TZNAME:CDT
DTSTART:20260308T080000
END:DAYLIGHT
BEGIN:STANDARD
TZOFFSETFROM:-0500
TZOFFSETTO:-0600
TZNAME:CST
DTSTART:20261101T070000
END:STANDARD
BEGIN:DAYLIGHT
TZOFFSETFROM:-0600
TZOFFSETTO:-0500
TZNAME:CDT
DTSTART:20270314T080000
END:DAYLIGHT
BEGIN:STANDARD
TZOFFSETFROM:-0500
TZOFFSETTO:-0600
TZNAME:CST
DTSTART:20271107T070000
END:STANDARD
END:VTIMEZONE
BEGIN:VEVENT
DTSTART;VALUE=DATE:20260311
DTEND;VALUE=DATE:20260312
DTSTAMP:20260421T125058
CREATED:20251110T191709Z
LAST-MODIFIED:20251110T191709Z
UID:10005117-1773187200-1773273599@kwrealtysignature.com
SUMMARY:MAR Regional Awards
DESCRIPTION:Details to follow!
URL:https://kwrealtysignature.com/event/mar-regional-awards/
LOCATION:Region
CATEGORIES:Regional Event
END:VEVENT
BEGIN:VEVENT
DTSTART;TZID=America/Chicago:20260311T090000
DTEND;TZID=America/Chicago:20260311T113000
DTSTAMP:20260421T125058
CREATED:20260309T155038Z
LAST-MODIFIED:20260309T155038Z
UID:10005534-1773219600-1773228600@kwrealtysignature.com
SUMMARY:SCHEDULE CHANGE:  Core 2:  IL Listings
DESCRIPTION:Learn how the KWRS listing agreement has been designed as a tool to handle objections and help you secure the listing. Discover where to find KWRS paperwork and the forms to successfully protect your client and yourself during the transaction and after. \n\nThen learn how disclosures protect your client and you from liability. which Federal\, State & KWRS form is needed in each situation and how to properly guide your client through the paperwork.  \n _________________ \nFor All Agents & TCs New to KWRS or newly licensed in both states. Requirements for Agents in Mentoring and as directed by their Coach. \nOpen to all agents who want a refresher. \n 
URL:https://kwrealtysignature.com/event/core-2-il-listings-2-2-2/
LOCATION:Rockford\, 4201 Galleria Dr\, Loves Park\, IL\, 61111
CATEGORIES:Contract Class
END:VEVENT
BEGIN:VEVENT
DTSTART;TZID=America/Chicago:20260311T130000
DTEND;TZID=America/Chicago:20260311T140000
DTSTAMP:20260421T125058
CREATED:20260203T165236Z
LAST-MODIFIED:20260203T172222Z
UID:10005707-1773234000-1773237600@kwrealtysignature.com
SUMMARY:KW Tech Essentials:  Contacts / Opportunities
DESCRIPTION:Learn how to best manage your contacts and how to use opportunities in Command!\nThis is a hands-on class so please bring your computer! \n  \nhttps://us02web.zoom.us/j/89773848691
URL:https://kwrealtysignature.com/event/kw-tech-essentials-contacts-opportunities-4-2/
LOCATION:Rockford – Zoom\, 4201 Galleria Dr\, Loves Park\, IL
CATEGORIES:Tech Essentials
END:VEVENT
END:VCALENDAR