BEGIN:VCALENDAR
VERSION:2.0
PRODID:-//Keller Williams Realty Signature - ECPv6.15.20//NONSGML v1.0//EN
CALSCALE:GREGORIAN
METHOD:PUBLISH
X-WR-CALNAME:Keller Williams Realty Signature
X-ORIGINAL-URL:https://kwrealtysignature.com
X-WR-CALDESC:Events for Keller Williams Realty Signature
REFRESH-INTERVAL;VALUE=DURATION:PT1H
X-Robots-Tag:noindex
X-PUBLISHED-TTL:PT1H
BEGIN:VTIMEZONE
TZID:America/Chicago
BEGIN:DAYLIGHT
TZOFFSETFROM:-0600
TZOFFSETTO:-0500
TZNAME:CDT
DTSTART:20250309T080000
END:DAYLIGHT
BEGIN:STANDARD
TZOFFSETFROM:-0500
TZOFFSETTO:-0600
TZNAME:CST
DTSTART:20251102T070000
END:STANDARD
BEGIN:DAYLIGHT
TZOFFSETFROM:-0600
TZOFFSETTO:-0500
TZNAME:CDT
DTSTART:20260308T080000
END:DAYLIGHT
BEGIN:STANDARD
TZOFFSETFROM:-0500
TZOFFSETTO:-0600
TZNAME:CST
DTSTART:20261101T070000
END:STANDARD
BEGIN:DAYLIGHT
TZOFFSETFROM:-0600
TZOFFSETTO:-0500
TZNAME:CDT
DTSTART:20270314T080000
END:DAYLIGHT
BEGIN:STANDARD
TZOFFSETFROM:-0500
TZOFFSETTO:-0600
TZNAME:CST
DTSTART:20271107T070000
END:STANDARD
END:VTIMEZONE
BEGIN:VEVENT
DTSTART;VALUE=DATE:20260423
DTEND;VALUE=DATE:20260424
DTSTAMP:20260423T013932
CREATED:20251110T201719Z
LAST-MODIFIED:20260304T175116Z
UID:10005134-1776902400-1776988799@kwrealtysignature.com
SUMMARY:WI:  RASCW Board Orientation
DESCRIPTION:Required for all new agents joining RASCW.\nDescription\nWelcome to RASCW! We are excited to be a part of your journey\, and your first step is completing the New Member Orientation. This session will be held in-person from 9:00am-3:00pm at the WRA Education Center (lower/same level as RASCW office). \nPLEASE NOTE: You must be present for the entire session to fulfill your New Member Orientation requirement. Check in begins at 8:45am and lunch will be provided. Program begins promptly at 9:00am\, so please arrive before then. \n* Hang out after the program for an optional Paragon Basics training starting at 3pm! \nWRA Education Center\n4801 Forest Run Rd\nMadison\, WI 53704
URL:https://kwrealtysignature.com/event/wi-rascw-board-orientation-3/
END:VEVENT
BEGIN:VEVENT
DTSTART;VALUE=DATE:20260423
DTEND;VALUE=DATE:20260424
DTSTAMP:20260423T013932
CREATED:20251110T192629Z
LAST-MODIFIED:20251110T192629Z
UID:10005122-1776902400-1776988799@kwrealtysignature.com
SUMMARY:Region:  MC Financials
DESCRIPTION:For KW Leadership Staff & ALC.  Details to follow!
URL:https://kwrealtysignature.com/event/region-mc-financials/
LOCATION:Region
CATEGORIES:Regional Event
END:VEVENT
BEGIN:VEVENT
DTSTART;TZID=America/Chicago:20260423T090000
DTEND;TZID=America/Chicago:20260423T110000
DTSTAMP:20260423T013932
CREATED:20260412T221657Z
LAST-MODIFIED:20260417T145739Z
UID:10008425-1776934800-1776942000@kwrealtysignature.com
SUMMARY:Breakthrough 120 Part 2
DESCRIPTION:Part Two is your launchpad for action\, providing the structure and accountability you need to succeed. You are encouraged to start this phase during or immediately after Part One\, and continue attending for your first 120 days and beyond. Here you will double down on your daily lead generation to build a business as large as you want.
URL:https://kwrealtysignature.com/event/breakthrough-120-part-2/2026-04-23/
LOCATION:KWRS Office – Loves Park
END:VEVENT
BEGIN:VEVENT
DTSTART;TZID=America/Chicago:20260423T100000
DTEND;TZID=America/Chicago:20260423T110000
DTSTAMP:20260423T013932
CREATED:20260406T005847Z
LAST-MODIFIED:20260409T191403Z
UID:10008348-1776938400-1776942000@kwrealtysignature.com
SUMMARY:IL Core 3:  Offer Writing Part 2 Assignment review
DESCRIPTION:Understand how to complete the Offer to Purchase and associated docs.\nPart 2 Assignment review\nFor All Agents & TCs New to KWRS or newly licensed in IL.  Requirements for Agents in Mentoring  \nOpen to all agents who want a refresher.
URL:https://kwrealtysignature.com/event/il-core-3-offer-writing-part-2-assignment-review-2/2026-04-23/
LOCATION:Rockford Office
END:VEVENT
END:VCALENDAR