BEGIN:VCALENDAR
VERSION:2.0
PRODID:-//Keller Williams Realty Signature - ECPv6.15.20//NONSGML v1.0//EN
CALSCALE:GREGORIAN
METHOD:PUBLISH
X-WR-CALNAME:Keller Williams Realty Signature
X-ORIGINAL-URL:https://kwrealtysignature.com
X-WR-CALDESC:Events for Keller Williams Realty Signature
REFRESH-INTERVAL;VALUE=DURATION:PT1H
X-Robots-Tag:noindex
X-PUBLISHED-TTL:PT1H
BEGIN:VTIMEZONE
TZID:America/Chicago
BEGIN:DAYLIGHT
TZOFFSETFROM:-0600
TZOFFSETTO:-0500
TZNAME:CDT
DTSTART:20250309T080000
END:DAYLIGHT
BEGIN:STANDARD
TZOFFSETFROM:-0500
TZOFFSETTO:-0600
TZNAME:CST
DTSTART:20251102T070000
END:STANDARD
BEGIN:DAYLIGHT
TZOFFSETFROM:-0600
TZOFFSETTO:-0500
TZNAME:CDT
DTSTART:20260308T080000
END:DAYLIGHT
BEGIN:STANDARD
TZOFFSETFROM:-0500
TZOFFSETTO:-0600
TZNAME:CST
DTSTART:20261101T070000
END:STANDARD
BEGIN:DAYLIGHT
TZOFFSETFROM:-0600
TZOFFSETTO:-0500
TZNAME:CDT
DTSTART:20270314T080000
END:DAYLIGHT
BEGIN:STANDARD
TZOFFSETFROM:-0500
TZOFFSETTO:-0600
TZNAME:CST
DTSTART:20271107T070000
END:STANDARD
END:VTIMEZONE
BEGIN:VEVENT
DTSTART;TZID=America/Chicago:20260609T090000
DTEND;TZID=America/Chicago:20260609T110000
DTSTAMP:20260421T114853
CREATED:20251216T205536Z
LAST-MODIFIED:20251216T205536Z
UID:10006070-1780995600-1781002800@kwrealtysignature.com
SUMMARY:Core 3:  WI Listings
DESCRIPTION:Understand how to complete the WI Listing agreement and supporting docs. \n _________________ \nFor All Agents & TCs New to KWRS or newly licensed in both states. Requirements for Agents in Mentoring.  Open to all agents who want a refresher. \n  \n 
URL:https://kwrealtysignature.com/event/core-3-wi-listings-3/2026-06-09/
LOCATION:Beloit
CATEGORIES:Contract Class
END:VEVENT
BEGIN:VEVENT
DTSTART;TZID=America/Chicago:20260609T120000
DTEND;TZID=America/Chicago:20260609T130000
DTSTAMP:20260421T114853
CREATED:20251124T175348Z
LAST-MODIFIED:20251124T175348Z
UID:10005152-1781006400-1781010000@kwrealtysignature.com
SUMMARY:KWRS IL Team Meeting (Loves Park/Zoom)
DESCRIPTION:Our Monthly Company Meeting brings all agents together to stay aligned\, informed\, and energized for the month ahead.\nIn this meeting\, we will:\n\nShare office updates\, announcements\, and upcoming events\nReview key numbers\, wins\, and opportunities in our market\nHighlight agent successes\, listings\, and closings\nIntroduce any new tools\, systems\, or resources\nProvide a short training or focus topic to support your business growth\n\nThis is a core touchpoint for our culture and communication. All agents are encouraged to attend\, participate\, and come prepared with questions\, ideas\, and any important updates to share.\n\n\nOpen to All Agents – Specific to Agents Licensed in IL. Held on the 2nd Tuesday of each month. \nAnother Team Meeting will be held on the 4th Tuesday of each month Open to All Agents – Specific to Agents Licensed in Wisconsin.
URL:https://kwrealtysignature.com/event/kwrs-il-team-meeting-loves-park-zoom-6/
LOCATION:Rockford – Zoom\, 4201 Galleria Dr\, Loves Park\, IL
END:VEVENT
END:VCALENDAR