BEGIN:VCALENDAR
VERSION:2.0
PRODID:-//Keller Williams Realty Signature - ECPv6.15.20//NONSGML v1.0//EN
CALSCALE:GREGORIAN
METHOD:PUBLISH
X-WR-CALNAME:Keller Williams Realty Signature
X-ORIGINAL-URL:https://kwrealtysignature.com
X-WR-CALDESC:Events for Keller Williams Realty Signature
REFRESH-INTERVAL;VALUE=DURATION:PT1H
X-Robots-Tag:noindex
X-PUBLISHED-TTL:PT1H
BEGIN:VTIMEZONE
TZID:America/Chicago
BEGIN:DAYLIGHT
TZOFFSETFROM:-0600
TZOFFSETTO:-0500
TZNAME:CDT
DTSTART:20250309T080000
END:DAYLIGHT
BEGIN:STANDARD
TZOFFSETFROM:-0500
TZOFFSETTO:-0600
TZNAME:CST
DTSTART:20251102T070000
END:STANDARD
BEGIN:DAYLIGHT
TZOFFSETFROM:-0600
TZOFFSETTO:-0500
TZNAME:CDT
DTSTART:20260308T080000
END:DAYLIGHT
BEGIN:STANDARD
TZOFFSETFROM:-0500
TZOFFSETTO:-0600
TZNAME:CST
DTSTART:20261101T070000
END:STANDARD
BEGIN:DAYLIGHT
TZOFFSETFROM:-0600
TZOFFSETTO:-0500
TZNAME:CDT
DTSTART:20270314T080000
END:DAYLIGHT
BEGIN:STANDARD
TZOFFSETFROM:-0500
TZOFFSETTO:-0600
TZNAME:CST
DTSTART:20271107T070000
END:STANDARD
END:VTIMEZONE
BEGIN:VEVENT
DTSTART;TZID=America/Chicago:20260902T090000
DTEND;TZID=America/Chicago:20260902T110000
DTSTAMP:20260421T093919
CREATED:20260412T221657Z
LAST-MODIFIED:20260417T145739Z
UID:10008500-1788339600-1788346800@kwrealtysignature.com
SUMMARY:Breakthrough 120 Part 2
DESCRIPTION:Part Two is your launchpad for action\, providing the structure and accountability you need to succeed. You are encouraged to start this phase during or immediately after Part One\, and continue attending for your first 120 days and beyond. Here you will double down on your daily lead generation to build a business as large as you want.
URL:https://kwrealtysignature.com/event/breakthrough-120-part-2/2026-09-02/
LOCATION:KWRS Office – Loves Park
END:VEVENT
BEGIN:VEVENT
DTSTART;TZID=America/Chicago:20260902T110000
DTEND;TZID=America/Chicago:20260902T120000
DTSTAMP:20260421T093919
CREATED:20251212T194817Z
LAST-MODIFIED:20260326T154119Z
UID:10005697-1788346800-1788350400@kwrealtysignature.com
SUMMARY:KW Tech Essentials:  DocuSign
DESCRIPTION:Understanding DocuSign\n\nWhy do I have to start in Command?\nWhere do I find the forms for WI\, IL & KWRS?\nHow do I do strike outs?\nHow can I avoid manually setting up all those radio buttons on the Condition Reports???\nHow can I avoid manually setting up signatures and initials?\nShould I put signors in an order or send it out to everyone at once?\nHow do I pull docs in from DocuSign to Command Opportunities?\n\nhttps://us02web.zoom.us/meeting/register/9KdctqksQsCSv_T_8zuWnwhttps://us02web.zoom.us/j/85279458680
URL:https://kwrealtysignature.com/event/kw-tech-essentials-docusign-5/2026-09-02/
LOCATION:Rockford / Zoom
CATEGORIES:Tech Essentials
END:VEVENT
END:VCALENDAR