BEGIN:VCALENDAR
VERSION:2.0
PRODID:-//Keller Williams Realty Signature - ECPv6.15.20//NONSGML v1.0//EN
CALSCALE:GREGORIAN
METHOD:PUBLISH
X-ORIGINAL-URL:https://kwrealtysignature.com
X-WR-CALDESC:Events for Keller Williams Realty Signature
REFRESH-INTERVAL;VALUE=DURATION:PT1H
X-Robots-Tag:noindex
X-PUBLISHED-TTL:PT1H
BEGIN:VTIMEZONE
TZID:America/Chicago
BEGIN:DAYLIGHT
TZOFFSETFROM:-0600
TZOFFSETTO:-0500
TZNAME:CDT
DTSTART:20250309T080000
END:DAYLIGHT
BEGIN:STANDARD
TZOFFSETFROM:-0500
TZOFFSETTO:-0600
TZNAME:CST
DTSTART:20251102T070000
END:STANDARD
BEGIN:DAYLIGHT
TZOFFSETFROM:-0600
TZOFFSETTO:-0500
TZNAME:CDT
DTSTART:20260308T080000
END:DAYLIGHT
BEGIN:STANDARD
TZOFFSETFROM:-0500
TZOFFSETTO:-0600
TZNAME:CST
DTSTART:20261101T070000
END:STANDARD
BEGIN:DAYLIGHT
TZOFFSETFROM:-0600
TZOFFSETTO:-0500
TZNAME:CDT
DTSTART:20270314T080000
END:DAYLIGHT
BEGIN:STANDARD
TZOFFSETFROM:-0500
TZOFFSETTO:-0600
TZNAME:CST
DTSTART:20271107T070000
END:STANDARD
END:VTIMEZONE
BEGIN:VEVENT
DTSTART;TZID=America/Chicago:20260903T090000
DTEND;TZID=America/Chicago:20260903T110000
DTSTAMP:20260421T094521
CREATED:20260412T221657Z
LAST-MODIFIED:20260417T145739Z
UID:10008501-1788426000-1788433200@kwrealtysignature.com
SUMMARY:Breakthrough 120 Part 2
DESCRIPTION:Part Two is your launchpad for action\, providing the structure and accountability you need to succeed. You are encouraged to start this phase during or immediately after Part One\, and continue attending for your first 120 days and beyond. Here you will double down on your daily lead generation to build a business as large as you want.
URL:https://kwrealtysignature.com/event/breakthrough-120-part-2/2026-09-03/
LOCATION:KWRS Office – Loves Park
END:VEVENT
BEGIN:VEVENT
DTSTART;TZID=America/Chicago:20260903T090000
DTEND;TZID=America/Chicago:20260903T130000
DTSTAMP:20260421T094521
CREATED:20260421T143714Z
LAST-MODIFIED:20260421T144242Z
UID:10008682-1788426000-1788440400@kwrealtysignature.com
SUMMARY:Breakthrough 120 Part 1\, Class
DESCRIPTION:Breakthrough 120 is a comprehensive two-part course designed to scale successful real estate careers. Part One\, The Foundation\, focuses on lead generation systems\, lead follow-up\, and securing appointments.  \nPart Two\, The Practice\, transitions agents into a 120-day phase of daily\, productive lead generation\, accountability\, and market expertise. By merging essential mindsets with purposeful systems\, the program provides a scalable roadmap to secure nine signed agreements in 120 days. For agents of all levels.  Great for teams\, top producers\, new agents — basically\, everyone!! \nThis is a NEW KWU Course that they are seeing very high results in.  Please plan to attend!
URL:https://kwrealtysignature.com/event/breakthrough-120-part-1/2026-09-03/
LOCATION:KWRS Office – Loves Park
END:VEVENT
END:VCALENDAR