BEGIN:VCALENDAR
VERSION:2.0
PRODID:-//Keller Williams Realty Signature - ECPv6.15.20//NONSGML v1.0//EN
CALSCALE:GREGORIAN
METHOD:PUBLISH
X-WR-CALNAME:Keller Williams Realty Signature
X-ORIGINAL-URL:https://kwrealtysignature.com
X-WR-CALDESC:Events for Keller Williams Realty Signature
REFRESH-INTERVAL;VALUE=DURATION:PT1H
X-Robots-Tag:noindex
X-PUBLISHED-TTL:PT1H
BEGIN:VTIMEZONE
TZID:America/Chicago
BEGIN:DAYLIGHT
TZOFFSETFROM:-0600
TZOFFSETTO:-0500
TZNAME:CDT
DTSTART:20250309T080000
END:DAYLIGHT
BEGIN:STANDARD
TZOFFSETFROM:-0500
TZOFFSETTO:-0600
TZNAME:CST
DTSTART:20251102T070000
END:STANDARD
BEGIN:DAYLIGHT
TZOFFSETFROM:-0600
TZOFFSETTO:-0500
TZNAME:CDT
DTSTART:20260308T080000
END:DAYLIGHT
BEGIN:STANDARD
TZOFFSETFROM:-0500
TZOFFSETTO:-0600
TZNAME:CST
DTSTART:20261101T070000
END:STANDARD
BEGIN:DAYLIGHT
TZOFFSETFROM:-0600
TZOFFSETTO:-0500
TZNAME:CDT
DTSTART:20270314T080000
END:DAYLIGHT
BEGIN:STANDARD
TZOFFSETFROM:-0500
TZOFFSETTO:-0600
TZNAME:CST
DTSTART:20271107T070000
END:STANDARD
END:VTIMEZONE
BEGIN:VEVENT
DTSTART;TZID=America/Chicago:20260303T090000
DTEND;TZID=America/Chicago:20260303T120000
DTSTAMP:20260422T222704
CREATED:20251212T193352Z
LAST-MODIFIED:20251212T193352Z
UID:10005659-1772528400-1772539200@kwrealtysignature.com
SUMMARY:IL & WI Core 1:  CMA Class & Workshop
DESCRIPTION:FOR AGENTS IN IL & WI!\nThis class is good for both buyer and seller agents.  This  CMA class is followed by a hands-on CMA Workshop where you will create a CMA based on a scenario.  \nThis will be a 3-hour session where the workshop.  You can join for the full class or the part you need the most. First 90 minutes will be class\, 2nd 90 minutes will be workshop. \nPlease bring your laptops to access Paragon. \nFor All Agents New to KWRS or newly licensed in both states. Requirements for Agents in Mentoring. Open to all agents who want to fine-tune your CMA skills!
URL:https://kwrealtysignature.com/event/il-wi-core-1-cma-class-workshop-3/2026-03-03/
LOCATION:Rockford\, 4201 Galleria Dr\, Loves Park\, IL\, 61111
CATEGORIES:Contract Class
END:VEVENT
BEGIN:VEVENT
DTSTART;TZID=America/Chicago:20260309T080000
DTEND;TZID=America/Chicago:20260309T170000
DTSTAMP:20260422T222704
CREATED:20260309T142741Z
LAST-MODIFIED:20260309T142742Z
UID:10008325-1773043200-1773075600@kwrealtysignature.com
SUMMARY:SCHEDULE CHANGE:  Core 2:  IL Listings
DESCRIPTION:Learn how the KWRS listing agreement has been designed as a tool to handle objections and help you secure the listing. Discover where to find KWRS paperwork and the forms to successfully protect your client and yourself during the transaction and after. \n\nThen learn how disclosures protect your client and you from liability. which Federal\, State & KWRS form is needed in each situation and how to properly guide your client through the paperwork.  \n _________________ \nFor All Agents & TCs New to KWRS or newly licensed in both states. Requirements for Agents in Mentoring and as directed by their Coach. \nOpen to all agents who want a refresher. \n 
URL:https://kwrealtysignature.com/event/core-2-il-listings-2-2/2026-03-09/
LOCATION:Rockford\, 4201 Galleria Dr\, Loves Park\, IL\, 61111
CATEGORIES:Contract Class
END:VEVENT
BEGIN:VEVENT
DTSTART;TZID=America/Chicago:20260310T090000
DTEND;TZID=America/Chicago:20260310T110000
DTSTAMP:20260422T222705
CREATED:20251216T205536Z
LAST-MODIFIED:20251216T205536Z
UID:10006067-1773133200-1773140400@kwrealtysignature.com
SUMMARY:Core 3:  WI Listings
DESCRIPTION:Understand how to complete the WI Listing agreement and supporting docs. \n _________________ \nFor All Agents & TCs New to KWRS or newly licensed in both states. Requirements for Agents in Mentoring.  Open to all agents who want a refresher. \n  \n 
URL:https://kwrealtysignature.com/event/core-3-wi-listings-3/2026-03-10/
LOCATION:Beloit
CATEGORIES:Contract Class
END:VEVENT
BEGIN:VEVENT
DTSTART;TZID=America/Chicago:20260311T090000
DTEND;TZID=America/Chicago:20260311T113000
DTSTAMP:20260422T222705
CREATED:20260309T155038Z
LAST-MODIFIED:20260309T155038Z
UID:10005534-1773219600-1773228600@kwrealtysignature.com
SUMMARY:SCHEDULE CHANGE:  Core 2:  IL Listings
DESCRIPTION:Learn how the KWRS listing agreement has been designed as a tool to handle objections and help you secure the listing. Discover where to find KWRS paperwork and the forms to successfully protect your client and yourself during the transaction and after. \n\nThen learn how disclosures protect your client and you from liability. which Federal\, State & KWRS form is needed in each situation and how to properly guide your client through the paperwork.  \n _________________ \nFor All Agents & TCs New to KWRS or newly licensed in both states. Requirements for Agents in Mentoring and as directed by their Coach. \nOpen to all agents who want a refresher. \n 
URL:https://kwrealtysignature.com/event/core-2-il-listings-2-2-2/
LOCATION:Rockford\, 4201 Galleria Dr\, Loves Park\, IL\, 61111
CATEGORIES:Contract Class
END:VEVENT
BEGIN:VEVENT
DTSTART;TZID=America/Chicago:20260317T090000
DTEND;TZID=America/Chicago:20260317T120000
DTSTAMP:20260422T222705
CREATED:20251217T145416Z
LAST-MODIFIED:20251217T145416Z
UID:10006128-1773738000-1773748800@kwrealtysignature.com
SUMMARY:WI Core 2: Writing Offers
DESCRIPTION:Understand how to complete the Offer to Purchase and associated docs. \nFor All Agents & TCs New to KWRS or newly licensed in WI.  Requirements for Agents in Mentoring \nOpen to all agents who want a refresher. \n 
URL:https://kwrealtysignature.com/event/wi-core-2-writing-offers-2/2026-03-17/
LOCATION:Beloit
CATEGORIES:Contract Class
END:VEVENT
BEGIN:VEVENT
DTSTART;TZID=America/Chicago:20260319T110000
DTEND;TZID=America/Chicago:20260319T130000
DTSTAMP:20260422T222705
CREATED:20260312T201306Z
LAST-MODIFIED:20260312T201306Z
UID:10008326-1773918000-1773925200@kwrealtysignature.com
SUMMARY:IL Core 3: Writing Offers (Special Day/Time)
DESCRIPTION:Understand how to complete the Offer to Purchase and associated docs.\nFor All Agents & TCs New to KWRS or newly licensed in IL.  Requirements for Agents in Mentoring\n  \n 
URL:https://kwrealtysignature.com/event/il-core-3-writing-offers-part-1-2-2/
LOCATION:Rockford\, 4201 Galleria Dr\, Loves Park\, IL\, 61111
CATEGORIES:Contract Class
END:VEVENT
BEGIN:VEVENT
DTSTART;TZID=America/Chicago:20260324T090000
DTEND;TZID=America/Chicago:20260324T110000
DTSTAMP:20260422T222705
CREATED:20251217T150635Z
LAST-MODIFIED:20251217T150635Z
UID:10006368-1774342800-1774350000@kwrealtysignature.com
SUMMARY:Core 4:  IL Real Life Scenarios
DESCRIPTION:Learn how KW Systems fit in with the real world with an overview of contracts\, regulations\, Q&As. \nFor All Agents New to KWRS or newly licensed in both states. Requirements for Agents in Mentoring and as directed by their Coach. \nOpen to all agents who want a refresher. \n  \nCore Cycle: \n\nCore 1:  CMAs Rockford/Galena (1st Tuesday)\nCore 2:  Writing Offers\, Rockford\, Galena & Beloit (2nd Tuesday)\nCore 3:  Completing Listings\, Rockford\, Galena & Beloit (3rd Tuesday)\nCore 4:  Real Life Scenarios\, Rockford\, Galena & Janesville (4th Tuesday)
URL:https://kwrealtysignature.com/event/core-4-il-real-life-scenarios-2/2026-03-24/
LOCATION:Rockford\, 4201 Galleria Dr\, Loves Park\, IL\, 61111
CATEGORIES:Contract Class
END:VEVENT
END:VCALENDAR