BEGIN:VCALENDAR
VERSION:2.0
PRODID:-//Keller Williams Realty Signature - ECPv6.15.20//NONSGML v1.0//EN
CALSCALE:GREGORIAN
METHOD:PUBLISH
X-WR-CALNAME:Keller Williams Realty Signature
X-ORIGINAL-URL:https://kwrealtysignature.com
X-WR-CALDESC:Events for Keller Williams Realty Signature
REFRESH-INTERVAL;VALUE=DURATION:PT1H
X-Robots-Tag:noindex
X-PUBLISHED-TTL:PT1H
BEGIN:VTIMEZONE
TZID:America/Chicago
BEGIN:DAYLIGHT
TZOFFSETFROM:-0600
TZOFFSETTO:-0500
TZNAME:CDT
DTSTART:20250309T080000
END:DAYLIGHT
BEGIN:STANDARD
TZOFFSETFROM:-0500
TZOFFSETTO:-0600
TZNAME:CST
DTSTART:20251102T070000
END:STANDARD
BEGIN:DAYLIGHT
TZOFFSETFROM:-0600
TZOFFSETTO:-0500
TZNAME:CDT
DTSTART:20260308T080000
END:DAYLIGHT
BEGIN:STANDARD
TZOFFSETFROM:-0500
TZOFFSETTO:-0600
TZNAME:CST
DTSTART:20261101T070000
END:STANDARD
BEGIN:DAYLIGHT
TZOFFSETFROM:-0600
TZOFFSETTO:-0500
TZNAME:CDT
DTSTART:20270314T080000
END:DAYLIGHT
BEGIN:STANDARD
TZOFFSETFROM:-0500
TZOFFSETTO:-0600
TZNAME:CST
DTSTART:20271107T070000
END:STANDARD
END:VTIMEZONE
BEGIN:VEVENT
DTSTART;TZID=America/Chicago:20260804T090000
DTEND;TZID=America/Chicago:20260804T113000
DTSTAMP:20260423T060351
CREATED:20260304T175029Z
LAST-MODIFIED:20260304T175030Z
UID:10005664-1785834000-1785843000@kwrealtysignature.com
SUMMARY:IL & WI Core 1:  CMA Class & Workshop
DESCRIPTION:FOR AGENTS IN IL & WI!\nThis class is good for both buyer and seller agents.  This  CMA class is followed by a hands-on CMA Workshop where you will create a CMA based on a scenario.  \nThis will be a 3-hour session where the workshop.  You can join for the full class or the part you need the most. First 90 minutes will be class\, 2nd 90 minutes will be workshop. \nPlease bring your laptops to access Paragon. \nFor All Agents New to KWRS or newly licensed in both states. Requirements for Agents in Mentoring. Open to all agents who want to fine-tune your CMA skills!
URL:https://kwrealtysignature.com/event/il-wi-core-1-cma-class-workshop-3-2/2026-08-04/
LOCATION:Rockford\, 4201 Galleria Dr\, Loves Park\, IL\, 61111
CATEGORIES:Contract Class
END:VEVENT
BEGIN:VEVENT
DTSTART;TZID=America/Chicago:20260811T090000
DTEND;TZID=America/Chicago:20260811T110000
DTSTAMP:20260423T060351
CREATED:20251216T205536Z
LAST-MODIFIED:20251216T205536Z
UID:10006072-1786438800-1786446000@kwrealtysignature.com
SUMMARY:Core 3:  WI Listings
DESCRIPTION:Understand how to complete the WI Listing agreement and supporting docs. \n _________________ \nFor All Agents & TCs New to KWRS or newly licensed in both states. Requirements for Agents in Mentoring.  Open to all agents who want a refresher. \n  \n 
URL:https://kwrealtysignature.com/event/core-3-wi-listings-3/2026-08-11/
LOCATION:Beloit
CATEGORIES:Contract Class
END:VEVENT
BEGIN:VEVENT
DTSTART;TZID=America/Chicago:20260818T090000
DTEND;TZID=America/Chicago:20260818T120000
DTSTAMP:20260423T060351
CREATED:20251217T145416Z
LAST-MODIFIED:20251217T145416Z
UID:10006133-1787043600-1787054400@kwrealtysignature.com
SUMMARY:WI Core 2: Writing Offers
DESCRIPTION:Understand how to complete the Offer to Purchase and associated docs. \nFor All Agents & TCs New to KWRS or newly licensed in WI.  Requirements for Agents in Mentoring \nOpen to all agents who want a refresher. \n 
URL:https://kwrealtysignature.com/event/wi-core-2-writing-offers-2/2026-08-18/
LOCATION:Beloit
CATEGORIES:Contract Class
END:VEVENT
BEGIN:VEVENT
DTSTART;TZID=America/Chicago:20260825T090000
DTEND;TZID=America/Chicago:20260825T110000
DTSTAMP:20260423T060351
CREATED:20251217T150635Z
LAST-MODIFIED:20251217T150635Z
UID:10006373-1787648400-1787655600@kwrealtysignature.com
SUMMARY:Core 4:  IL Real Life Scenarios
DESCRIPTION:Learn how KW Systems fit in with the real world with an overview of contracts\, regulations\, Q&As. \nFor All Agents New to KWRS or newly licensed in both states. Requirements for Agents in Mentoring and as directed by their Coach. \nOpen to all agents who want a refresher. \n  \nCore Cycle: \n\nCore 1:  CMAs Rockford/Galena (1st Tuesday)\nCore 2:  Writing Offers\, Rockford\, Galena & Beloit (2nd Tuesday)\nCore 3:  Completing Listings\, Rockford\, Galena & Beloit (3rd Tuesday)\nCore 4:  Real Life Scenarios\, Rockford\, Galena & Janesville (4th Tuesday)
URL:https://kwrealtysignature.com/event/core-4-il-real-life-scenarios-2/2026-08-25/
LOCATION:Rockford\, 4201 Galleria Dr\, Loves Park\, IL\, 61111
CATEGORIES:Contract Class
END:VEVENT
END:VCALENDAR