BEGIN:VCALENDAR
VERSION:2.0
PRODID:-//Keller Williams Realty Signature - ECPv6.15.20//NONSGML v1.0//EN
CALSCALE:GREGORIAN
METHOD:PUBLISH
X-WR-CALNAME:Keller Williams Realty Signature
X-ORIGINAL-URL:https://kwrealtysignature.com
X-WR-CALDESC:Events for Keller Williams Realty Signature
REFRESH-INTERVAL;VALUE=DURATION:PT1H
X-Robots-Tag:noindex
X-PUBLISHED-TTL:PT1H
BEGIN:VTIMEZONE
TZID:America/Chicago
BEGIN:DAYLIGHT
TZOFFSETFROM:-0600
TZOFFSETTO:-0500
TZNAME:CDT
DTSTART:20240310T080000
END:DAYLIGHT
BEGIN:STANDARD
TZOFFSETFROM:-0500
TZOFFSETTO:-0600
TZNAME:CST
DTSTART:20241103T070000
END:STANDARD
BEGIN:DAYLIGHT
TZOFFSETFROM:-0600
TZOFFSETTO:-0500
TZNAME:CDT
DTSTART:20250309T080000
END:DAYLIGHT
BEGIN:STANDARD
TZOFFSETFROM:-0500
TZOFFSETTO:-0600
TZNAME:CST
DTSTART:20251102T070000
END:STANDARD
BEGIN:DAYLIGHT
TZOFFSETFROM:-0600
TZOFFSETTO:-0500
TZNAME:CDT
DTSTART:20260308T080000
END:DAYLIGHT
BEGIN:STANDARD
TZOFFSETFROM:-0500
TZOFFSETTO:-0600
TZNAME:CST
DTSTART:20261101T070000
END:STANDARD
END:VTIMEZONE
BEGIN:VEVENT
DTSTART;TZID=America/Chicago:20250722T173000
DTEND;TZID=America/Chicago:20250722T190000
DTSTAMP:20260420T150239
CREATED:20250718T213953Z
LAST-MODIFIED:20250718T213953Z
UID:10004955-1753205400-1753210800@kwrealtysignature.com
SUMMARY:PC: Foundation Group
DESCRIPTION:Foundation Group is focused on the activities you need to learn to launch your business.  Specifically for brand new agents in the business. \n\nMarketing\nLead Gen\nMindset\nValue Proposition\nWorking with Buyers/Sellers\nOpen Houses\nAnd much more!\n\nhttps://us02web.zoom.us/j/84871509800
URL:https://kwrealtysignature.com/event/pc-foundation-group/
LOCATION:Zoom Only
CATEGORIES:Productivity Coaching
ORGANIZER;CN="Brenda Kaare":MAILTO:bkaare@kw.com
END:VEVENT
BEGIN:VEVENT
DTSTART;TZID=America/Chicago:20250723T170000
DTEND;TZID=America/Chicago:20250723T180000
DTSTAMP:20260420T150239
CREATED:20250718T214257Z
LAST-MODIFIED:20250718T214336Z
UID:10004956-1753290000-1753293600@kwrealtysignature.com
SUMMARY:PC:  National Zoom
DESCRIPTION:Please join our National weekly collaborative\, supportive mastermind designed specifically for Realtors in their first 1–3 years. \n👥 What to Expect:\n\n✅ Weekly accountability & goal setting\n✅ Real-world strategies that actually work\n✅ Live problem-solving with peers\n✅ Expert coaching & mindset support\n✅ A community that gets it \nWhether you’re struggling to build momentum or just want to surround yourself with others on the same path\, this mastermind is your shortcut to growth.\nhttps://us02web.zoom.us/meeting/register/cWDemN2FRuWig52TGGQOqA
URL:https://kwrealtysignature.com/event/pc-national-zoom/
CATEGORIES:Productivity Coaching
ORGANIZER;CN="Brenda Kaare":MAILTO:bkaare@kw.com
END:VEVENT
END:VCALENDAR