BEGIN:VCALENDAR
VERSION:2.0
PRODID:-//Keller Williams Realty Signature - ECPv6.15.20//NONSGML v1.0//EN
CALSCALE:GREGORIAN
METHOD:PUBLISH
X-WR-CALNAME:Keller Williams Realty Signature
X-ORIGINAL-URL:https://kwrealtysignature.com
X-WR-CALDESC:Events for Keller Williams Realty Signature
REFRESH-INTERVAL;VALUE=DURATION:PT1H
X-Robots-Tag:noindex
X-PUBLISHED-TTL:PT1H
BEGIN:VTIMEZONE
TZID:America/Chicago
BEGIN:DAYLIGHT
TZOFFSETFROM:-0600
TZOFFSETTO:-0500
TZNAME:CDT
DTSTART:20240310T080000
END:DAYLIGHT
BEGIN:STANDARD
TZOFFSETFROM:-0500
TZOFFSETTO:-0600
TZNAME:CST
DTSTART:20241103T070000
END:STANDARD
BEGIN:DAYLIGHT
TZOFFSETFROM:-0600
TZOFFSETTO:-0500
TZNAME:CDT
DTSTART:20250309T080000
END:DAYLIGHT
BEGIN:STANDARD
TZOFFSETFROM:-0500
TZOFFSETTO:-0600
TZNAME:CST
DTSTART:20251102T070000
END:STANDARD
BEGIN:DAYLIGHT
TZOFFSETFROM:-0600
TZOFFSETTO:-0500
TZNAME:CDT
DTSTART:20260308T080000
END:DAYLIGHT
BEGIN:STANDARD
TZOFFSETFROM:-0500
TZOFFSETTO:-0600
TZNAME:CST
DTSTART:20261101T070000
END:STANDARD
END:VTIMEZONE
BEGIN:VEVENT
DTSTART;TZID=America/Chicago:20250805T173000
DTEND;TZID=America/Chicago:20250805T190000
DTSTAMP:20260420T150138
CREATED:20250730T211738Z
LAST-MODIFIED:20250730T211738Z
UID:10004974-1754415000-1754420400@kwrealtysignature.com
SUMMARY:PC: Foundation Group
DESCRIPTION:Foundation Group is focused on the activities you need to learn to launch your business.  Specifically for brand new agents in the business. \n\nMarketing\nLead Gen\nMindset\nValue Proposition\nWorking with Buyers/Sellers\nOpen Houses\nAnd much more!\n\nhttps://us02web.zoom.us/j/84871509800
URL:https://kwrealtysignature.com/event/pc-foundation-group-2/
LOCATION:Zoom Only
CATEGORIES:Productivity Coaching
ORGANIZER;CN="Brenda Kaare":MAILTO:bkaare@kw.com
END:VEVENT
BEGIN:VEVENT
DTSTART;TZID=America/Chicago:20250806T170000
DTEND;TZID=America/Chicago:20250806T180000
DTSTAMP:20260420T150138
CREATED:20250730T175112Z
LAST-MODIFIED:20250730T175112Z
UID:10004967-1754499600-1754503200@kwrealtysignature.com
SUMMARY:PC National Zoom
DESCRIPTION:Please join our National weekly collaborative\, supportive mastermind designed specifically for Realtors in their first 1–3 years. \n👥 What to Expect:\n✅ Weekly accountability & goal setting\n✅ Real-world strategies that actually work\n✅ Live problem-solving with peers\n✅ Expert coaching & mindset support\n✅ A community that gets it \nWhether you’re struggling to build momentum or just want to surround yourself with others on the same path\, this mastermind is your shortcut to growth. \nhttps://us02web.zoom.us/meeting/register/cWDemN2FRuWig52TGGQOqA
URL:https://kwrealtysignature.com/event/pc-national-zoom-2/
LOCATION:Zoom Only
CATEGORIES:Productivity Coaching
ORGANIZER;CN="Brenda Kaare":MAILTO:bkaare@kw.com
END:VEVENT
BEGIN:VEVENT
DTSTART;TZID=America/Chicago:20250807T100000
DTEND;TZID=America/Chicago:20250807T113000
DTSTAMP:20260420T150138
CREATED:20250730T175957Z
LAST-MODIFIED:20250730T180359Z
UID:10004969-1754560800-1754566200@kwrealtysignature.com
SUMMARY:PC/BD Growth Group
DESCRIPTION:Growth is for PC Agents in production and Business Development Agents who want to improve their skills. \nWe will take a deep dive into the next level of your training. \n\nPresentation Glam up!!\nFSBO/Expireds Marketing\nNegotiations\nPricing Homes\nVision Boards\nEvent Planning\n\nOpen to all! Best to be in-person for these sessions. \nRockford / Zoom  https://us02web.zoom.us/j/82890494329
URL:https://kwrealtysignature.com/event/pc-bd-growth-group/
LOCATION:Rockford – Zoom\, 4201 Galleria Dr\, Loves Park\, IL
CATEGORIES:Productivity Coaching
ORGANIZER;CN="Brenda Kaare":MAILTO:bkaare@kw.com
END:VEVENT
BEGIN:VEVENT
DTSTART;TZID=America/Chicago:20250812T173000
DTEND;TZID=America/Chicago:20250812T190000
DTSTAMP:20260420T150138
CREATED:20250730T211848Z
LAST-MODIFIED:20250730T211848Z
UID:10004975-1755019800-1755025200@kwrealtysignature.com
SUMMARY:PC: Foundation Group
DESCRIPTION:Foundation Group is focused on the activities you need to learn to launch your business.  Specifically for brand new agents in the business. \n\nMarketing\nLead Gen\nMindset\nValue Proposition\nWorking with Buyers/Sellers\nOpen Houses\nAnd much more!\n\nhttps://us02web.zoom.us/j/84871509800
URL:https://kwrealtysignature.com/event/pc-foundation-group-3/
LOCATION:Zoom Only
CATEGORIES:Productivity Coaching
ORGANIZER;CN="Brenda Kaare":MAILTO:bkaare@kw.com
END:VEVENT
BEGIN:VEVENT
DTSTART;TZID=America/Chicago:20250813T170000
DTEND;TZID=America/Chicago:20250813T180000
DTSTAMP:20260420T150138
CREATED:20250730T212203Z
LAST-MODIFIED:20250730T212203Z
UID:10004978-1755104400-1755108000@kwrealtysignature.com
SUMMARY:PC National Zoom
DESCRIPTION:Please join our National weekly collaborative\, supportive mastermind designed specifically for Realtors in their first 1–3 years. \n👥 What to Expect:\n✅ Weekly accountability & goal setting\n✅ Real-world strategies that actually work\n✅ Live problem-solving with peers\n✅ Expert coaching & mindset support\n✅ A community that gets it \nWhether you’re struggling to build momentum or just want to surround yourself with others on the same path\, this mastermind is your shortcut to growth. \nhttps://us02web.zoom.us/meeting/register/cWDemN2FRuWig52TGGQOqA
URL:https://kwrealtysignature.com/event/pc-national-zoom-3/
LOCATION:Zoom Only
CATEGORIES:Productivity Coaching
ORGANIZER;CN="Brenda Kaare":MAILTO:bkaare@kw.com
END:VEVENT
BEGIN:VEVENT
DTSTART;TZID=America/Chicago:20250814T100000
DTEND;TZID=America/Chicago:20250814T113000
DTSTAMP:20260420T150138
CREATED:20250730T212849Z
LAST-MODIFIED:20250730T212849Z
UID:10004984-1755165600-1755171000@kwrealtysignature.com
SUMMARY:PC/BD Growth Group
DESCRIPTION:Growth is for PC Agents in production and Business Development Agents who want to improve their skills. \nWe will take a deep dive into the next level of your training. \n\nPresentation Glam up!!\nFSBO/Expireds Marketing\nNegotiations\nPricing Homes\nVision Boards\nEvent Planning\n\nOpen to all! Best to be in-person for these sessions. \nRockford / Zoom  https://us02web.zoom.us/j/82890494329
URL:https://kwrealtysignature.com/event/pc-bd-growth-group-2/
LOCATION:Rockford – Zoom\, 4201 Galleria Dr\, Loves Park\, IL
CATEGORIES:Productivity Coaching
ORGANIZER;CN="Brenda Kaare":MAILTO:bkaare@kw.com
END:VEVENT
BEGIN:VEVENT
DTSTART;TZID=America/Chicago:20250819T173000
DTEND;TZID=America/Chicago:20250819T190000
DTSTAMP:20260420T150138
CREATED:20250730T211941Z
LAST-MODIFIED:20250730T211941Z
UID:10004976-1755624600-1755630000@kwrealtysignature.com
SUMMARY:PC: Foundation Group
DESCRIPTION:Foundation Group is focused on the activities you need to learn to launch your business.  Specifically for brand new agents in the business. \n\nMarketing\nLead Gen\nMindset\nValue Proposition\nWorking with Buyers/Sellers\nOpen Houses\nAnd much more!\n\nhttps://us02web.zoom.us/j/84871509800
URL:https://kwrealtysignature.com/event/pc-foundation-group-4/
LOCATION:Zoom Only
CATEGORIES:Productivity Coaching
ORGANIZER;CN="Brenda Kaare":MAILTO:bkaare@kw.com
END:VEVENT
BEGIN:VEVENT
DTSTART;TZID=America/Chicago:20250820T170000
DTEND;TZID=America/Chicago:20250820T180000
DTSTAMP:20260420T150138
CREATED:20250730T212256Z
LAST-MODIFIED:20250730T212256Z
UID:10004980-1755709200-1755712800@kwrealtysignature.com
SUMMARY:PC National Zoom
DESCRIPTION:Please join our National weekly collaborative\, supportive mastermind designed specifically for Realtors in their first 1–3 years. \n👥 What to Expect:\n✅ Weekly accountability & goal setting\n✅ Real-world strategies that actually work\n✅ Live problem-solving with peers\n✅ Expert coaching & mindset support\n✅ A community that gets it \nWhether you’re struggling to build momentum or just want to surround yourself with others on the same path\, this mastermind is your shortcut to growth. \nhttps://us02web.zoom.us/meeting/register/cWDemN2FRuWig52TGGQOqA
URL:https://kwrealtysignature.com/event/pc-national-zoom-4/
LOCATION:Zoom Only
CATEGORIES:Productivity Coaching
ORGANIZER;CN="Brenda Kaare":MAILTO:bkaare@kw.com
END:VEVENT
BEGIN:VEVENT
DTSTART;TZID=America/Chicago:20250821T100000
DTEND;TZID=America/Chicago:20250821T113000
DTSTAMP:20260420T150138
CREATED:20250730T213014Z
LAST-MODIFIED:20250730T213014Z
UID:10004986-1755770400-1755775800@kwrealtysignature.com
SUMMARY:PC/BD Growth Group
DESCRIPTION:Growth is for PC Agents in production and Business Development Agents who want to improve their skills. \nWe will take a deep dive into the next level of your training. \n\nPresentation Glam up!!\nFSBO/Expireds Marketing\nNegotiations\nPricing Homes\nVision Boards\nEvent Planning\n\nOpen to all! Best to be in-person for these sessions. \nRockford / Zoom  https://us02web.zoom.us/j/82890494329
URL:https://kwrealtysignature.com/event/pc-bd-growth-group-3/
LOCATION:Rockford – Zoom\, 4201 Galleria Dr\, Loves Park\, IL
CATEGORIES:Productivity Coaching
ORGANIZER;CN="Brenda Kaare":MAILTO:bkaare@kw.com
END:VEVENT
BEGIN:VEVENT
DTSTART;TZID=America/Chicago:20250826T173000
DTEND;TZID=America/Chicago:20250826T190000
DTSTAMP:20260420T150138
CREATED:20250730T212046Z
LAST-MODIFIED:20250730T212046Z
UID:10004977-1756229400-1756234800@kwrealtysignature.com
SUMMARY:PC: Foundation Group
DESCRIPTION:Foundation Group is focused on the activities you need to learn to launch your business.  Specifically for brand new agents in the business. \n\nMarketing\nLead Gen\nMindset\nValue Proposition\nWorking with Buyers/Sellers\nOpen Houses\nAnd much more!\n\nhttps://us02web.zoom.us/j/84871509800
URL:https://kwrealtysignature.com/event/pc-foundation-group-5/
LOCATION:Zoom Only
CATEGORIES:Productivity Coaching
ORGANIZER;CN="Brenda Kaare":MAILTO:bkaare@kw.com
END:VEVENT
BEGIN:VEVENT
DTSTART;TZID=America/Chicago:20250827T170000
DTEND;TZID=America/Chicago:20250827T180000
DTSTAMP:20260420T150138
CREATED:20250730T212323Z
LAST-MODIFIED:20250730T212323Z
UID:10004979-1756314000-1756317600@kwrealtysignature.com
SUMMARY:PC National Zoom
DESCRIPTION:Please join our National weekly collaborative\, supportive mastermind designed specifically for Realtors in their first 1–3 years. \n👥 What to Expect:\n✅ Weekly accountability & goal setting\n✅ Real-world strategies that actually work\n✅ Live problem-solving with peers\n✅ Expert coaching & mindset support\n✅ A community that gets it \nWhether you’re struggling to build momentum or just want to surround yourself with others on the same path\, this mastermind is your shortcut to growth. \nhttps://us02web.zoom.us/meeting/register/cWDemN2FRuWig52TGGQOqA
URL:https://kwrealtysignature.com/event/pc-national-zoom-5/
LOCATION:Zoom Only
CATEGORIES:Productivity Coaching
ORGANIZER;CN="Brenda Kaare":MAILTO:bkaare@kw.com
END:VEVENT
BEGIN:VEVENT
DTSTART;TZID=America/Chicago:20250828T100000
DTEND;TZID=America/Chicago:20250828T113000
DTSTAMP:20260420T150138
CREATED:20250730T213108Z
LAST-MODIFIED:20250730T213108Z
UID:10004985-1756375200-1756380600@kwrealtysignature.com
SUMMARY:PC/BD Growth Group
DESCRIPTION:Growth is for PC Agents in production and Business Development Agents who want to improve their skills. \nWe will take a deep dive into the next level of your training. \n\nPresentation Glam up!!\nFSBO/Expireds Marketing\nNegotiations\nPricing Homes\nVision Boards\nEvent Planning\n\nOpen to all! Best to be in-person for these sessions. \nRockford / Zoom  https://us02web.zoom.us/j/82890494329
URL:https://kwrealtysignature.com/event/pc-bd-growth-group-4/
LOCATION:Rockford – Zoom\, 4201 Galleria Dr\, Loves Park\, IL
CATEGORIES:Productivity Coaching
ORGANIZER;CN="Brenda Kaare":MAILTO:bkaare@kw.com
END:VEVENT
END:VCALENDAR