BEGIN:VCALENDAR
VERSION:2.0
PRODID:-//Keller Williams Realty Signature - ECPv6.15.20//NONSGML v1.0//EN
CALSCALE:GREGORIAN
METHOD:PUBLISH
X-ORIGINAL-URL:https://kwrealtysignature.com
X-WR-CALDESC:Events for Keller Williams Realty Signature
REFRESH-INTERVAL;VALUE=DURATION:PT1H
X-Robots-Tag:noindex
X-PUBLISHED-TTL:PT1H
BEGIN:VTIMEZONE
TZID:America/Chicago
BEGIN:DAYLIGHT
TZOFFSETFROM:-0600
TZOFFSETTO:-0500
TZNAME:CDT
DTSTART:20240310T080000
END:DAYLIGHT
BEGIN:STANDARD
TZOFFSETFROM:-0500
TZOFFSETTO:-0600
TZNAME:CST
DTSTART:20241103T070000
END:STANDARD
BEGIN:DAYLIGHT
TZOFFSETFROM:-0600
TZOFFSETTO:-0500
TZNAME:CDT
DTSTART:20250309T080000
END:DAYLIGHT
BEGIN:STANDARD
TZOFFSETFROM:-0500
TZOFFSETTO:-0600
TZNAME:CST
DTSTART:20251102T070000
END:STANDARD
BEGIN:DAYLIGHT
TZOFFSETFROM:-0600
TZOFFSETTO:-0500
TZNAME:CDT
DTSTART:20260308T080000
END:DAYLIGHT
BEGIN:STANDARD
TZOFFSETFROM:-0500
TZOFFSETTO:-0600
TZNAME:CST
DTSTART:20261101T070000
END:STANDARD
END:VTIMEZONE
BEGIN:VEVENT
DTSTART;TZID=America/Chicago:20250904T100000
DTEND;TZID=America/Chicago:20250904T113000
DTSTAMP:20260420T081025
CREATED:20250901T133712Z
LAST-MODIFIED:20250901T133712Z
UID:10005012-1756980000-1756985400@kwrealtysignature.com
SUMMARY:PC/BD Growth Group
DESCRIPTION:Growth is for PC Agents in production and Business Development Agents who want to improve their skills. \nWe will continue our role-play and practice around questions and presentations! \nOpen to all! Best to be in-person for these sessions. \nRockford / Zoom  https://us02web.zoom.us/j/82890494329
URL:https://kwrealtysignature.com/event/pc-bd-growth-group-5/
LOCATION:Rockford – Zoom\, 4201 Galleria Dr\, Loves Park\, IL
CATEGORIES:Productivity Coaching
ORGANIZER;CN="Brenda Kaare":MAILTO:bkaare@kw.com
END:VEVENT
BEGIN:VEVENT
DTSTART;TZID=America/Chicago:20250910T170000
DTEND;TZID=America/Chicago:20250910T180000
DTSTAMP:20260420T081025
CREATED:20250811T193759Z
LAST-MODIFIED:20250818T201917Z
UID:10004998-1757523600-1757527200@kwrealtysignature.com
SUMMARY:PC National Zoom:  Capping as a Dual Career Agent
DESCRIPTION:Please join our National weekly collaborative\, supportive mastermind designed specifically for Realtors in their first 1–3 years. \n**This week we will have a panel of agents who were dual career agents discussing how they capped and then went full-time as a Realtor.** \n_________________________________________ \n👥 What to Expect:\n✅ Weekly accountability & goal setting\n✅ Real-world strategies that actually work\n✅ Live problem-solving with peers\n✅ Expert coaching & mindset support\n✅ A community that gets it \nWhether you’re struggling to build momentum or just want to surround yourself with others on the same path\, this mastermind is your shortcut to growth. \nhttps://us02web.zoom.us/meeting/register/cWDemN2FRuWig52TGGQOqA
URL:https://kwrealtysignature.com/event/pc-national-zoom-capping-as-a-dual-career-agent/
LOCATION:Zoom Only
CATEGORIES:Productivity Coaching
ORGANIZER;CN="Brenda Kaare":MAILTO:bkaare@kw.com
END:VEVENT
BEGIN:VEVENT
DTSTART;TZID=America/Chicago:20250918T100000
DTEND;TZID=America/Chicago:20250918T113000
DTSTAMP:20260420T081025
CREATED:20250914T222234Z
LAST-MODIFIED:20250914T222234Z
UID:10005030-1758189600-1758195000@kwrealtysignature.com
SUMMARY:PC/BD Growth Group
DESCRIPTION:Growth is for PC Agents in production and Business Development Agents who want to improve their skills. \nWe will continue our role-play and practice around questions and presentations!  Also discussion around Open Houses. \nOpen to all! Best to be in-person for these sessions. \nRockford / Zoom  https://us02web.zoom.us/j/82890494329
URL:https://kwrealtysignature.com/event/pc-bd-growth-group-6/
LOCATION:Rockford – Zoom\, 4201 Galleria Dr\, Loves Park\, IL
CATEGORIES:Productivity Coaching
ORGANIZER;CN="Brenda Kaare":MAILTO:bkaare@kw.com
END:VEVENT
END:VCALENDAR