BEGIN:VCALENDAR
VERSION:2.0
PRODID:-//Keller Williams Realty Signature - ECPv6.15.20//NONSGML v1.0//EN
CALSCALE:GREGORIAN
METHOD:PUBLISH
X-WR-CALNAME:Keller Williams Realty Signature
X-ORIGINAL-URL:https://kwrealtysignature.com
X-WR-CALDESC:Events for Keller Williams Realty Signature
REFRESH-INTERVAL;VALUE=DURATION:PT1H
X-Robots-Tag:noindex
X-PUBLISHED-TTL:PT1H
BEGIN:VTIMEZONE
TZID:America/Chicago
BEGIN:DAYLIGHT
TZOFFSETFROM:-0600
TZOFFSETTO:-0500
TZNAME:CDT
DTSTART:20240310T080000
END:DAYLIGHT
BEGIN:STANDARD
TZOFFSETFROM:-0500
TZOFFSETTO:-0600
TZNAME:CST
DTSTART:20241103T070000
END:STANDARD
BEGIN:DAYLIGHT
TZOFFSETFROM:-0600
TZOFFSETTO:-0500
TZNAME:CDT
DTSTART:20250309T080000
END:DAYLIGHT
BEGIN:STANDARD
TZOFFSETFROM:-0500
TZOFFSETTO:-0600
TZNAME:CST
DTSTART:20251102T070000
END:STANDARD
BEGIN:DAYLIGHT
TZOFFSETFROM:-0600
TZOFFSETTO:-0500
TZNAME:CDT
DTSTART:20260308T080000
END:DAYLIGHT
BEGIN:STANDARD
TZOFFSETFROM:-0500
TZOFFSETTO:-0600
TZNAME:CST
DTSTART:20261101T070000
END:STANDARD
END:VTIMEZONE
BEGIN:VEVENT
DTSTART;TZID=America/Chicago:20251015T170000
DTEND;TZID=America/Chicago:20251015T180000
DTSTAMP:20260422T133244
CREATED:20250923T182101Z
LAST-MODIFIED:20250923T182101Z
UID:10005034-1760547600-1760551200@kwrealtysignature.com
SUMMARY:PC National Zoom:  Rookie Real Estate Agent Book Club Week 3
DESCRIPTION:Please join us over the next 7 weeks as we go through the brand new KW Book:  Rookie Real Estate Agent written specifically for the new agent launching their career!\nTo have a business\, you must have people who hire you. For real estate agents\, finding clients is a habit and a skill called lead generation. For long-term results\, the leads that an agent generates should be added to a database that is well tended and used. The goal is for you to understand your lead generation tactics\, reach out to your SOI\, and begin purposefully building your database so that you have predictable income. \nWeek 2:  Chapters 5-7 pages 57-115 \n\n\n\nhttps://us02web.zoom.us/meeting/register/cWDemN2FRuWig52TGGQOqA
URL:https://kwrealtysignature.com/event/pc-national-zoom-rookie-real-estate-agent-book-club-week-3/
LOCATION:Zoom Only
CATEGORIES:Productivity Coaching
ORGANIZER;CN="Brenda Kaare":MAILTO:bkaare@kw.com
END:VEVENT
END:VCALENDAR