BEGIN:VCALENDAR
VERSION:2.0
PRODID:-//Keller Williams Realty Signature - ECPv6.15.20//NONSGML v1.0//EN
CALSCALE:GREGORIAN
METHOD:PUBLISH
X-ORIGINAL-URL:https://kwrealtysignature.com
X-WR-CALDESC:Events for Keller Williams Realty Signature
REFRESH-INTERVAL;VALUE=DURATION:PT1H
X-Robots-Tag:noindex
X-PUBLISHED-TTL:PT1H
BEGIN:VTIMEZONE
TZID:America/Chicago
BEGIN:DAYLIGHT
TZOFFSETFROM:-0600
TZOFFSETTO:-0500
TZNAME:CDT
DTSTART:20240310T080000
END:DAYLIGHT
BEGIN:STANDARD
TZOFFSETFROM:-0500
TZOFFSETTO:-0600
TZNAME:CST
DTSTART:20241103T070000
END:STANDARD
BEGIN:DAYLIGHT
TZOFFSETFROM:-0600
TZOFFSETTO:-0500
TZNAME:CDT
DTSTART:20250309T080000
END:DAYLIGHT
BEGIN:STANDARD
TZOFFSETFROM:-0500
TZOFFSETTO:-0600
TZNAME:CST
DTSTART:20251102T070000
END:STANDARD
BEGIN:DAYLIGHT
TZOFFSETFROM:-0600
TZOFFSETTO:-0500
TZNAME:CDT
DTSTART:20260308T080000
END:DAYLIGHT
BEGIN:STANDARD
TZOFFSETFROM:-0500
TZOFFSETTO:-0600
TZNAME:CST
DTSTART:20261101T070000
END:STANDARD
END:VTIMEZONE
BEGIN:VEVENT
DTSTART;TZID=America/Chicago:20251022T170000
DTEND;TZID=America/Chicago:20251022T180000
DTSTAMP:20260422T134203
CREATED:20250923T182513Z
LAST-MODIFIED:20250923T195354Z
UID:10005035-1761152400-1761156000@kwrealtysignature.com
SUMMARY:PC National Zoom:  Rookie Real Estate Agent Book Club Week 4
DESCRIPTION:Please join us over the next 7 weeks as we go through the brand new KW Book:  Rookie Real Estate Agent written specifically for the new agent launching their career!\nIt’s time to start mastering the skills that will allow you to offer the best service to your clients – whether that’s having meaningful conversations or being able to discuss the full value you offer at an appointment. To gain these skills\, you’ll need to set habits for success that help structure your activities and your days\, keeping you on track for your financial goals and Big Why. The goal is for you to have a game plan for your time\, to have the confidence you need to close to an appointment\, and to have the conversations you need to get a signed service agreement to start serving.  \nWeek 4:  Chapters 8-10 pages 116-156 \n\n\n\nhttps://us02web.zoom.us/meeting/register/cWDemN2FRuWig52TGGQOqA
URL:https://kwrealtysignature.com/event/pc-national-zoom-rookie-real-estate-agent-book-club-week-4/
LOCATION:Zoom Only
CATEGORIES:Productivity Coaching
ORGANIZER;CN="Brenda Kaare":MAILTO:bkaare@kw.com
END:VEVENT
END:VCALENDAR