BEGIN:VCALENDAR
VERSION:2.0
PRODID:-//Keller Williams Realty Signature - ECPv6.15.20//NONSGML v1.0//EN
CALSCALE:GREGORIAN
METHOD:PUBLISH
X-ORIGINAL-URL:https://kwrealtysignature.com
X-WR-CALDESC:Events for Keller Williams Realty Signature
REFRESH-INTERVAL;VALUE=DURATION:PT1H
X-Robots-Tag:noindex
X-PUBLISHED-TTL:PT1H
BEGIN:VTIMEZONE
TZID:America/Chicago
BEGIN:DAYLIGHT
TZOFFSETFROM:-0600
TZOFFSETTO:-0500
TZNAME:CDT
DTSTART:20250309T080000
END:DAYLIGHT
BEGIN:STANDARD
TZOFFSETFROM:-0500
TZOFFSETTO:-0600
TZNAME:CST
DTSTART:20251102T070000
END:STANDARD
BEGIN:DAYLIGHT
TZOFFSETFROM:-0600
TZOFFSETTO:-0500
TZNAME:CDT
DTSTART:20260308T080000
END:DAYLIGHT
BEGIN:STANDARD
TZOFFSETFROM:-0500
TZOFFSETTO:-0600
TZNAME:CST
DTSTART:20261101T070000
END:STANDARD
BEGIN:DAYLIGHT
TZOFFSETFROM:-0600
TZOFFSETTO:-0500
TZNAME:CDT
DTSTART:20270314T080000
END:DAYLIGHT
BEGIN:STANDARD
TZOFFSETFROM:-0500
TZOFFSETTO:-0600
TZNAME:CST
DTSTART:20271107T070000
END:STANDARD
END:VTIMEZONE
BEGIN:VEVENT
DTSTART;TZID=America/Chicago:20260107T110000
DTEND;TZID=America/Chicago:20260107T120000
DTSTAMP:20260419T084219
CREATED:20251212T194817Z
LAST-MODIFIED:20260326T154119Z
UID:10005689-1767783600-1767787200@kwrealtysignature.com
SUMMARY:KW Tech Essentials:  DocuSign
DESCRIPTION:Understanding DocuSign\n\nWhy do I have to start in Command?\nWhere do I find the forms for WI\, IL & KWRS?\nHow do I do strike outs?\nHow can I avoid manually setting up all those radio buttons on the Condition Reports???\nHow can I avoid manually setting up signatures and initials?\nShould I put signors in an order or send it out to everyone at once?\nHow do I pull docs in from DocuSign to Command Opportunities?\n\nhttps://us02web.zoom.us/meeting/register/9KdctqksQsCSv_T_8zuWnwhttps://us02web.zoom.us/j/85279458680
URL:https://kwrealtysignature.com/event/kw-tech-essentials-docusign-5/2026-01-07/
LOCATION:Rockford / Zoom
CATEGORIES:Tech Essentials
END:VEVENT
BEGIN:VEVENT
DTSTART;TZID=America/Chicago:20260114T110000
DTEND;TZID=America/Chicago:20260114T120000
DTSTAMP:20260419T084219
CREATED:20251212T195104Z
LAST-MODIFIED:20260208T230631Z
UID:10005705-1768388400-1768392000@kwrealtysignature.com
SUMMARY:KW Tech Essentials:  Contacts / Opportunities
DESCRIPTION:Learn how to best manage your contacts and how to use opportunities in Command!\nThis is a hands-on class so please bring your computer! \n  \nhttps://us02web.zoom.us/j/89773848691
URL:https://kwrealtysignature.com/event/kw-tech-essentials-contacts-opportunities-4/2026-01-14/
LOCATION:KWRS Office – Loves Park
CATEGORIES:Tech Essentials
END:VEVENT
BEGIN:VEVENT
DTSTART;TZID=America/Chicago:20260115T080000
DTEND;TZID=America/Chicago:20260115T170000
DTSTAMP:20260419T084219
CREATED:20251216T160017Z
LAST-MODIFIED:20260127T153221Z
UID:10006771-1768464000-1768496400@kwrealtysignature.com
SUMMARY:Tech Essentials:  AI Tools Overview
DESCRIPTION:Understanding what AI Tools are available to you and how to use them to leverage your time.\nRockford / Zoom
URL:https://kwrealtysignature.com/event/tech-essentials-ai-tools-image-generation/2026-01-15/1/
LOCATION:Rockford – Zoom\, 4201 Galleria Dr\, Loves Park\, IL
CATEGORIES:Tech Essentials
END:VEVENT
BEGIN:VEVENT
DTSTART;TZID=America/Chicago:20260115T130000
DTEND;TZID=America/Chicago:20260115T140000
DTSTAMP:20260419T084219
CREATED:20251216T160017Z
LAST-MODIFIED:20260127T153221Z
UID:10006772-1768482000-1768485600@kwrealtysignature.com
SUMMARY:Tech Essentials:  AI Tools Overview
DESCRIPTION:Understanding what AI Tools are available to you and how to use them to leverage your time.\nRockford / Zoom
URL:https://kwrealtysignature.com/event/tech-essentials-ai-tools-image-generation/2026-01-15/2/
LOCATION:Rockford – Zoom\, 4201 Galleria Dr\, Loves Park\, IL
CATEGORIES:Tech Essentials
END:VEVENT
BEGIN:VEVENT
DTSTART;TZID=America/Chicago:20260121T130000
DTEND;TZID=America/Chicago:20260121T140000
DTSTAMP:20260419T084219
CREATED:20260121T155444Z
LAST-MODIFIED:20260121T155445Z
UID:10005673-1769000400-1769004000@kwrealtysignature.com
SUMMARY:KW Tech Essentials:  SmartPlans
DESCRIPTION:Understanding how to leverage your business through automated systems for email\, text and tasks.  It’s like having your own virtual assistant.\nThis is a hands-on class so please bring your computer! \nhttps://us02web.zoom.us/j/89773848691
URL:https://kwrealtysignature.com/event/kw-tech-essentials-smartplans-2-2/
LOCATION:Rockford – Zoom\, 4201 Galleria Dr\, Loves Park\, IL
CATEGORIES:Tech Essentials
END:VEVENT
BEGIN:VEVENT
DTSTART;TZID=America/Chicago:20260122T110000
DTEND;TZID=America/Chicago:20260122T120000
DTSTAMP:20260419T084219
CREATED:20260121T155344Z
LAST-MODIFIED:20260121T155404Z
UID:10005966-1769079600-1769083200@kwrealtysignature.com
SUMMARY:Tech Essentials:  AI Tools Overview
DESCRIPTION:Understanding what AI Tools are available to you and how to use them to leverage your time.\nRockford / Zoom
URL:https://kwrealtysignature.com/event/tech-essentials-ai-tools-image-generation-4/
LOCATION:Rockford – Zoom\, 4201 Galleria Dr\, Loves Park\, IL
CATEGORIES:Tech Essentials
END:VEVENT
BEGIN:VEVENT
DTSTART;TZID=America/Chicago:20260129T130000
DTEND;TZID=America/Chicago:20260129T140000
DTSTAMP:20260419T084219
CREATED:20260127T153301Z
LAST-MODIFIED:20260127T153302Z
UID:10006773-1769691600-1769695200@kwrealtysignature.com
SUMMARY:Tech Essentials:  AI Tools Overview
DESCRIPTION:Understanding what AI Tools are available to you and how to use them to leverage your time.\nRockford / Zoom
URL:https://kwrealtysignature.com/event/tech-essentials-ai-tools-image-generation-5/
LOCATION:Rockford – Zoom\, 4201 Galleria Dr\, Loves Park\, IL
CATEGORIES:Tech Essentials
END:VEVENT
END:VCALENDAR