BEGIN:VCALENDAR
VERSION:2.0
PRODID:-//Keller Williams Realty Signature - ECPv6.15.20//NONSGML v1.0//EN
CALSCALE:GREGORIAN
METHOD:PUBLISH
X-WR-CALNAME:Keller Williams Realty Signature
X-ORIGINAL-URL:https://kwrealtysignature.com
X-WR-CALDESC:Events for Keller Williams Realty Signature
REFRESH-INTERVAL;VALUE=DURATION:PT1H
X-Robots-Tag:noindex
X-PUBLISHED-TTL:PT1H
BEGIN:VTIMEZONE
TZID:America/Chicago
BEGIN:DAYLIGHT
TZOFFSETFROM:-0600
TZOFFSETTO:-0500
TZNAME:CDT
DTSTART:20300310T080000
END:DAYLIGHT
BEGIN:STANDARD
TZOFFSETFROM:-0500
TZOFFSETTO:-0600
TZNAME:CST
DTSTART:20301103T070000
END:STANDARD
BEGIN:DAYLIGHT
TZOFFSETFROM:-0600
TZOFFSETTO:-0500
TZNAME:CDT
DTSTART:20310309T080000
END:DAYLIGHT
BEGIN:STANDARD
TZOFFSETFROM:-0500
TZOFFSETTO:-0600
TZNAME:CST
DTSTART:20311102T070000
END:STANDARD
BEGIN:DAYLIGHT
TZOFFSETFROM:-0600
TZOFFSETTO:-0500
TZNAME:CDT
DTSTART:20320314T080000
END:DAYLIGHT
BEGIN:STANDARD
TZOFFSETFROM:-0500
TZOFFSETTO:-0600
TZNAME:CST
DTSTART:20321107T070000
END:STANDARD
END:VTIMEZONE
BEGIN:VEVENT
DTSTART;TZID=America/Chicago:20310327T100000
DTEND;TZID=America/Chicago:20310327T110000
DTSTAMP:20260422T055812
CREATED:20260406T005847Z
LAST-MODIFIED:20260409T191403Z
UID:10008407-1932372000-1932375600@kwrealtysignature.com
SUMMARY:IL Core 3:  Offer Writing Part 2 Assignment review
DESCRIPTION:Understand how to complete the Offer to Purchase and associated docs.\nPart 2 Assignment review\nFor All Agents & TCs New to KWRS or newly licensed in IL.  Requirements for Agents in Mentoring  \nOpen to all agents who want a refresher.
URL:https://kwrealtysignature.com/event/il-core-3-offer-writing-part-2-assignment-review-2/2031-03-27/
LOCATION:Rockford Office
END:VEVENT
END:VCALENDAR