BEGIN:VCALENDAR
VERSION:2.0
PRODID:-//Keller Williams Realty Signature - ECPv6.15.20//NONSGML v1.0//EN
CALSCALE:GREGORIAN
METHOD:PUBLISH
X-WR-CALNAME:Keller Williams Realty Signature
X-ORIGINAL-URL:https://kwrealtysignature.com
X-WR-CALDESC:Events for Keller Williams Realty Signature
REFRESH-INTERVAL;VALUE=DURATION:PT1H
X-Robots-Tag:noindex
X-PUBLISHED-TTL:PT1H
BEGIN:VTIMEZONE
TZID:America/Chicago
BEGIN:DAYLIGHT
TZOFFSETFROM:-0600
TZOFFSETTO:-0500
TZNAME:CDT
DTSTART:20240310T080000
END:DAYLIGHT
BEGIN:STANDARD
TZOFFSETFROM:-0500
TZOFFSETTO:-0600
TZNAME:CST
DTSTART:20241103T070000
END:STANDARD
BEGIN:DAYLIGHT
TZOFFSETFROM:-0600
TZOFFSETTO:-0500
TZNAME:CDT
DTSTART:20250309T080000
END:DAYLIGHT
BEGIN:STANDARD
TZOFFSETFROM:-0500
TZOFFSETTO:-0600
TZNAME:CST
DTSTART:20251102T070000
END:STANDARD
BEGIN:DAYLIGHT
TZOFFSETFROM:-0600
TZOFFSETTO:-0500
TZNAME:CDT
DTSTART:20260308T080000
END:DAYLIGHT
BEGIN:STANDARD
TZOFFSETFROM:-0500
TZOFFSETTO:-0600
TZNAME:CST
DTSTART:20261101T070000
END:STANDARD
END:VTIMEZONE
BEGIN:VEVENT
DTSTART;TZID=America/Chicago:20250722T133000
DTEND;TZID=America/Chicago:20250722T153000
DTSTAMP:20260425T125640
CREATED:20250718T222059Z
LAST-MODIFIED:20250718T222059Z
UID:10004961-1753191000-1753198200@kwrealtysignature.com
SUMMARY:Tough Money U: #1
DESCRIPTION:This session is about protecting you and your family’s financial health.  Don’t wait to put a plan together when a plan is needed.  We encourage you to invite your spouse and even your kids to these sessions so they have a good understanding of their finances. \nThis series will run monthly after the Team Meeting in both IL & WI: \n\nSession 1 Financial Freedom: Financial Education/Awareness/Saving\nSession 2 Financial Safety:  Debt and Insurance\nSession 3 Cover Your Assets:  Trusts/Wills/Asset Protection\n\nZoom: https://us02web.zoom.us/meeting/register/LgT6pUJYSruk_yb6q55iaw
URL:https://kwrealtysignature.com/event/tough-money-u-1/
LOCATION:Janesville / Zoom\, 4450 Milton Ave\, Janesville\, WI
CATEGORIES:Tough Money U
END:VEVENT
BEGIN:VEVENT
DTSTART;TZID=America/Chicago:20250722T140000
DTEND;TZID=America/Chicago:20250722T150000
DTSTAMP:20260425T125640
CREATED:20250718T221309Z
LAST-MODIFIED:20250718T221410Z
UID:10004960-1753192800-1753196400@kwrealtysignature.com
SUMMARY:Finance Matters: QuickBooks #2
DESCRIPTION:Setting up QuickBooks for your business Part 2 of 2 \n  \nhttps://us02web.zoom.us/j/89243052615
URL:https://kwrealtysignature.com/event/finance-matters-quickbooks-2/
LOCATION:Rockford – Zoom\, 4201 Galleria Dr\, Loves Park\, IL
CATEGORIES:Finance Matters
END:VEVENT
END:VCALENDAR