BEGIN:VCALENDAR
VERSION:2.0
PRODID:-//Keller Williams Realty Signature - ECPv6.15.20//NONSGML v1.0//EN
CALSCALE:GREGORIAN
METHOD:PUBLISH
X-WR-CALNAME:Keller Williams Realty Signature
X-ORIGINAL-URL:https://kwrealtysignature.com
X-WR-CALDESC:Events for Keller Williams Realty Signature
REFRESH-INTERVAL;VALUE=DURATION:PT1H
X-Robots-Tag:noindex
X-PUBLISHED-TTL:PT1H
BEGIN:VTIMEZONE
TZID:America/Chicago
BEGIN:DAYLIGHT
TZOFFSETFROM:-0600
TZOFFSETTO:-0500
TZNAME:CDT
DTSTART:20240310T080000
END:DAYLIGHT
BEGIN:STANDARD
TZOFFSETFROM:-0500
TZOFFSETTO:-0600
TZNAME:CST
DTSTART:20241103T070000
END:STANDARD
BEGIN:DAYLIGHT
TZOFFSETFROM:-0600
TZOFFSETTO:-0500
TZNAME:CDT
DTSTART:20250309T080000
END:DAYLIGHT
BEGIN:STANDARD
TZOFFSETFROM:-0500
TZOFFSETTO:-0600
TZNAME:CST
DTSTART:20251102T070000
END:STANDARD
BEGIN:DAYLIGHT
TZOFFSETFROM:-0600
TZOFFSETTO:-0500
TZNAME:CDT
DTSTART:20260308T080000
END:DAYLIGHT
BEGIN:STANDARD
TZOFFSETFROM:-0500
TZOFFSETTO:-0600
TZNAME:CST
DTSTART:20261101T070000
END:STANDARD
END:VTIMEZONE
BEGIN:VEVENT
DTSTART;TZID=America/Chicago:20250923T103000
DTEND;TZID=America/Chicago:20250923T133000
DTSTAMP:20260423T030947
CREATED:20250818T005446Z
LAST-MODIFIED:20250818T005730Z
UID:10005008-1758623400-1758634200@kwrealtysignature.com
SUMMARY:2026 Business Planning Clinic Trilogy:  Part 3\, Finance Planning 2
DESCRIPTION:This course is based on the book “The Millionaire Real Estate Agent” and specifically covers the five key business models – the Economic Model\, the Lead Generation Model\, the Budget Model\, the Organizational Model\, and the Expansion Model. \nPart 2 of 2 sessions
URL:https://kwrealtysignature.com/event/2026-business-planning-clinic-trilogy-part-2-finance-planning-2/
LOCATION:Rockford\, 4201 Galleria Dr\, Loves Park\, IL\, 61111
END:VEVENT
END:VCALENDAR