BEGIN:VCALENDAR
VERSION:2.0
PRODID:-//Keller Williams Realty Signature - ECPv6.15.20//NONSGML v1.0//EN
CALSCALE:GREGORIAN
METHOD:PUBLISH
X-ORIGINAL-URL:https://kwrealtysignature.com
X-WR-CALDESC:Events for Keller Williams Realty Signature
REFRESH-INTERVAL;VALUE=DURATION:PT1H
X-Robots-Tag:noindex
X-PUBLISHED-TTL:PT1H
BEGIN:VTIMEZONE
TZID:America/Chicago
BEGIN:DAYLIGHT
TZOFFSETFROM:-0600
TZOFFSETTO:-0500
TZNAME:CDT
DTSTART:20240310T080000
END:DAYLIGHT
BEGIN:STANDARD
TZOFFSETFROM:-0500
TZOFFSETTO:-0600
TZNAME:CST
DTSTART:20241103T070000
END:STANDARD
BEGIN:DAYLIGHT
TZOFFSETFROM:-0600
TZOFFSETTO:-0500
TZNAME:CDT
DTSTART:20250309T080000
END:DAYLIGHT
BEGIN:STANDARD
TZOFFSETFROM:-0500
TZOFFSETTO:-0600
TZNAME:CST
DTSTART:20251102T070000
END:STANDARD
BEGIN:DAYLIGHT
TZOFFSETFROM:-0600
TZOFFSETTO:-0500
TZNAME:CDT
DTSTART:20260308T080000
END:DAYLIGHT
BEGIN:STANDARD
TZOFFSETFROM:-0500
TZOFFSETTO:-0600
TZNAME:CST
DTSTART:20261101T070000
END:STANDARD
END:VTIMEZONE
BEGIN:VEVENT
DTSTART;TZID=America/Chicago:20250805T090000
DTEND;TZID=America/Chicago:20250805T103000
DTSTAMP:20260423T024208
CREATED:20250731T172722Z
LAST-MODIFIED:20250731T172722Z
UID:10004989-1754384400-1754389800@kwrealtysignature.com
SUMMARY:IL Leadership Forum
DESCRIPTION:“You’ve Got a Friend”  The Secret Sauce to Success: Accountability \nThis class is designed to help you grow as a leader whether it be as a Rainmaker of a Team or a Leader in Your Community.  Join Toni and grow!
URL:https://kwrealtysignature.com/event/il-leadership-forum-2/
LOCATION:Rockford\, 4201 Galleria Dr\, Loves Park\, IL\, 61111
END:VEVENT
BEGIN:VEVENT
DTSTART;VALUE=DATE:20250811
DTEND;VALUE=DATE:20250815
DTSTAMP:20260423T024208
CREATED:20250730T213506Z
LAST-MODIFIED:20250730T213506Z
UID:10004987-1754870400-1755215999@kwrealtysignature.com
SUMMARY:KWRI MegaAgent Camp
DESCRIPTION:Mega Agent Camp is real estate’s leading agent education and training event. Designed for agents at every level\, MAC centers on lively main stage conversations with top-producing agents from across KW – moderated by Gary Keller and KW leaders. More than a conference\, MAC is a celebration of learning and culture\, with keynotes\, receptions\, exhibits\, and events that empower you to build and grow the business of your dreams.
URL:https://kwrealtysignature.com/event/kwri-megaagent-camp/
CATEGORIES:KWRI
END:VEVENT
BEGIN:VEVENT
DTSTART;TZID=America/Chicago:20250826T090000
DTEND;TZID=America/Chicago:20250826T103000
DTSTAMP:20260423T024208
CREATED:20250731T173215Z
LAST-MODIFIED:20250807T160000Z
UID:10004990-1756198800-1756204200@kwrealtysignature.com
SUMMARY:WI Leadership Forum
DESCRIPTION:“You’ve Got a Friend”  The Secret Sauce to Success: Accountability \nThis class is designed to help you grow as a leader whether it be as a Rainmaker of a Team or a Leader in Your Community.  Join Toni and Grow!
URL:https://kwrealtysignature.com/event/wi-leadership-forum-2/
LOCATION:Beloit
END:VEVENT
END:VCALENDAR