BEGIN:VCALENDAR
VERSION:2.0
PRODID:-//Keller Williams Realty Signature - ECPv6.15.20//NONSGML v1.0//EN
CALSCALE:GREGORIAN
METHOD:PUBLISH
X-ORIGINAL-URL:https://kwrealtysignature.com
X-WR-CALDESC:Events for Keller Williams Realty Signature
REFRESH-INTERVAL;VALUE=DURATION:PT1H
X-Robots-Tag:noindex
X-PUBLISHED-TTL:PT1H
BEGIN:VTIMEZONE
TZID:America/Chicago
BEGIN:DAYLIGHT
TZOFFSETFROM:-0600
TZOFFSETTO:-0500
TZNAME:CDT
DTSTART:20240310T080000
END:DAYLIGHT
BEGIN:STANDARD
TZOFFSETFROM:-0500
TZOFFSETTO:-0600
TZNAME:CST
DTSTART:20241103T070000
END:STANDARD
BEGIN:DAYLIGHT
TZOFFSETFROM:-0600
TZOFFSETTO:-0500
TZNAME:CDT
DTSTART:20250309T080000
END:DAYLIGHT
BEGIN:STANDARD
TZOFFSETFROM:-0500
TZOFFSETTO:-0600
TZNAME:CST
DTSTART:20251102T070000
END:STANDARD
BEGIN:DAYLIGHT
TZOFFSETFROM:-0600
TZOFFSETTO:-0500
TZNAME:CDT
DTSTART:20260308T080000
END:DAYLIGHT
BEGIN:STANDARD
TZOFFSETFROM:-0500
TZOFFSETTO:-0600
TZNAME:CST
DTSTART:20261101T070000
END:STANDARD
END:VTIMEZONE
BEGIN:VEVENT
DTSTART;TZID=America/Chicago:20251028T090000
DTEND;TZID=America/Chicago:20251028T160000
DTSTAMP:20260423T043722
CREATED:20250923T202738Z
LAST-MODIFIED:20250923T203858Z
UID:10005042-1761642000-1761667200@kwrealtysignature.com
SUMMARY:Finish 2025 Strong - Glover-U October Series Week 3
DESCRIPTION:Don’t miss this opportunity to Finish 2025 Strong with this 3-week series from Jeff Glover-U \n\nMindset & Inspiration\nProspecting & Skills Training\nScripts & Objection Handling\nLead Generation & Conversation\nPersonality Styles & Value Proposition\n\nDates: \n\nOctober 14:  Focus on prospecting\, mindset\, skill-building and appointment setting.\nOctober 21:  A week dedicated to agents applying what they learned in week 1\nOctober 28:  Deep dive\, accountability and skill refinement based on their results from week 1\n\n3 Session course for a total of $70.
URL:https://kwrealtysignature.com/event/finish-2025-strong-glover-u-october-series-week-3/
CATEGORIES:Glover U
END:VEVENT
END:VCALENDAR