BEGIN:VCALENDAR
VERSION:2.0
PRODID:-//Keller Williams Realty Signature - ECPv6.15.20//NONSGML v1.0//EN
CALSCALE:GREGORIAN
METHOD:PUBLISH
X-ORIGINAL-URL:https://kwrealtysignature.com
X-WR-CALDESC:Events for Keller Williams Realty Signature
REFRESH-INTERVAL;VALUE=DURATION:PT1H
X-Robots-Tag:noindex
X-PUBLISHED-TTL:PT1H
BEGIN:VTIMEZONE
TZID:America/Chicago
BEGIN:DAYLIGHT
TZOFFSETFROM:-0600
TZOFFSETTO:-0500
TZNAME:CDT
DTSTART:20240310T080000
END:DAYLIGHT
BEGIN:STANDARD
TZOFFSETFROM:-0500
TZOFFSETTO:-0600
TZNAME:CST
DTSTART:20241103T070000
END:STANDARD
BEGIN:DAYLIGHT
TZOFFSETFROM:-0600
TZOFFSETTO:-0500
TZNAME:CDT
DTSTART:20250309T080000
END:DAYLIGHT
BEGIN:STANDARD
TZOFFSETFROM:-0500
TZOFFSETTO:-0600
TZNAME:CST
DTSTART:20251102T070000
END:STANDARD
BEGIN:DAYLIGHT
TZOFFSETFROM:-0600
TZOFFSETTO:-0500
TZNAME:CDT
DTSTART:20260308T080000
END:DAYLIGHT
BEGIN:STANDARD
TZOFFSETFROM:-0500
TZOFFSETTO:-0600
TZNAME:CST
DTSTART:20261101T070000
END:STANDARD
BEGIN:DAYLIGHT
TZOFFSETFROM:-0600
TZOFFSETTO:-0500
TZNAME:CDT
DTSTART:20270314T080000
END:DAYLIGHT
BEGIN:STANDARD
TZOFFSETFROM:-0500
TZOFFSETTO:-0600
TZNAME:CST
DTSTART:20271107T070000
END:STANDARD
END:VTIMEZONE
BEGIN:VEVENT
DTSTART;TZID=America/Chicago:20260304T170000
DTEND;TZID=America/Chicago:20260304T190000
DTSTAMP:20260420T035319
CREATED:20260302T001233Z
LAST-MODIFIED:20260302T001410Z
UID:10008247-1772643600-1772650800@kwrealtysignature.com
SUMMARY:WI KWRS Mingle Night
DESCRIPTION:Whether you’re looking to expand your network\, share industry insights\, or just relax with fellow real estate professionals\, the WI KWRS Mingle Night is the perfect opportunity. Join the Keller Williams Realty Signature team for an evening of connection and conversation.
URL:https://kwrealtysignature.com/event/wi-mingle-night/
LOCATION:Velvet Buffalo Rooftop\, 500 Public Ave\, Beloit
END:VEVENT
BEGIN:VEVENT
DTSTART;TZID=America/Chicago:20251006T093000
DTEND;TZID=America/Chicago:20251006T103000
DTSTAMP:20260420T035319
CREATED:20251002T141030Z
LAST-MODIFIED:20251002T141030Z
UID:10005049-1759743000-1759746600@kwrealtysignature.com
SUMMARY:WI Breakfast Group!
DESCRIPTION:Join us for a breakfast mastermind with your WI fellow agents!\n 
URL:https://kwrealtysignature.com/event/wi-breakfast-group-11/
LOCATION:Bessie’s Diner\, 1716 W. Airport Road\, Janesville\, WI\, 53546
END:VEVENT
END:VCALENDAR