BEGIN:VCALENDAR
VERSION:2.0
PRODID:-//Keller Williams Realty Signature - ECPv6.15.20//NONSGML v1.0//EN
CALSCALE:GREGORIAN
METHOD:PUBLISH
X-ORIGINAL-URL:https://kwrealtysignature.com
X-WR-CALDESC:Events for Keller Williams Realty Signature
REFRESH-INTERVAL;VALUE=DURATION:PT1H
X-Robots-Tag:noindex
X-PUBLISHED-TTL:PT1H
BEGIN:VTIMEZONE
TZID:America/Chicago
BEGIN:DAYLIGHT
TZOFFSETFROM:-0600
TZOFFSETTO:-0500
TZNAME:CDT
DTSTART:20240310T080000
END:DAYLIGHT
BEGIN:STANDARD
TZOFFSETFROM:-0500
TZOFFSETTO:-0600
TZNAME:CST
DTSTART:20241103T070000
END:STANDARD
BEGIN:DAYLIGHT
TZOFFSETFROM:-0600
TZOFFSETTO:-0500
TZNAME:CDT
DTSTART:20250309T080000
END:DAYLIGHT
BEGIN:STANDARD
TZOFFSETFROM:-0500
TZOFFSETTO:-0600
TZNAME:CST
DTSTART:20251102T070000
END:STANDARD
BEGIN:DAYLIGHT
TZOFFSETFROM:-0600
TZOFFSETTO:-0500
TZNAME:CDT
DTSTART:20260308T080000
END:DAYLIGHT
BEGIN:STANDARD
TZOFFSETFROM:-0500
TZOFFSETTO:-0600
TZNAME:CST
DTSTART:20261101T070000
END:STANDARD
END:VTIMEZONE
BEGIN:VEVENT
DTSTART;TZID=America/Chicago:20251124T100000
DTEND;TZID=America/Chicago:20251124T113000
DTSTAMP:20260419T160233
CREATED:20251106T222700Z
LAST-MODIFIED:20251124T150250Z
UID:10005102-1763978400-1763983800@kwrealtysignature.com
SUMMARY:Business Planning Clinic Webinar with Jeff Glover
DESCRIPTION:Business Planning Clinic Webinar with Jeff Glover\nGet Jeff Glover’s exact 2026 real estate agent business plan. \nNot only will you get your own copy of Jeff Glover’s exact 2026 business plan\, just for showing up\, you’ll also get to see exactly how to apply the plan in your own business. \nSet your goals\, master proven systems\, and start the year with a plan that actually works. \nRegister here or watch at the offices. \nYou’ll discover: \n\nThe 3 key numbers that drive your income goals\nJeff’s 2026 market outlook and top lead-gen sources\nThe exact daily schedule top producers follow\nA plug-and-play business plan template you can use right away\n\nDon’t leave your income up to chance. Build a plan and accountability system that supports your transaction goals and make 2026 your best year ever.
URL:https://kwrealtysignature.com/event/business-planning-clinic-webinar-with-jeff-glover/
LOCATION:Office Zooms
END:VEVENT
END:VCALENDAR